BEGIN:VCALENDAR
VERSION:2.0
PRODID:-//Bayou Beaux - ECPv6.15.20//NONSGML v1.0//EN
CALSCALE:GREGORIAN
METHOD:PUBLISH
X-WR-CALNAME:Bayou Beaux
X-ORIGINAL-URL:https://bayoubeaux.com
X-WR-CALDESC:Events for Bayou Beaux
REFRESH-INTERVAL;VALUE=DURATION:PT1H
X-Robots-Tag:noindex
X-PUBLISHED-TTL:PT1H
BEGIN:VTIMEZONE
TZID:UTC
BEGIN:STANDARD
TZOFFSETFROM:+0000
TZOFFSETTO:+0000
TZNAME:UTC
DTSTART:20210101T000000
END:STANDARD
END:VTIMEZONE
BEGIN:VEVENT
DTSTART;TZID=UTC:20220716T090000
DTEND;TZID=UTC:20220716T150000
DTSTAMP:20260421T082144
CREATED:20220712T200646Z
LAST-MODIFIED:20220712T200646Z
UID:4216-1657962000-1657983600@bayoubeaux.com
SUMMARY:Bayou Beaux Beez Pop-Up Shop @ Madisonville TX Farmers Market
DESCRIPTION:Check out our Creole Seasonings\, BBQ Sauces\, Rubs\, and Creole Tings!. Come and enjoy the Louisiana Creole Experience!
URL:https://bayoubeaux.com/event/bayou-beaux-beez-pop-up-shop-madisonville-tx-farmers-market-2/
LOCATION:Truman Kimbro Center\, 111 West Trinity Street\, Madisonville\, TX\, 77864\, United States
CATEGORIES:Artisan,Farmers Market,Markets,Pop Up Shop
GEO:30.9474488;-95.9166947
X-APPLE-STRUCTURED-LOCATION;VALUE=URI;X-ADDRESS=Truman Kimbro Center 111 West Trinity Street Madisonville TX 77864 United States;X-APPLE-RADIUS=500;X-TITLE=111 West Trinity Street:geo:-95.9166947,30.9474488
END:VEVENT
END:VCALENDAR