BEGIN:VCALENDAR
VERSION:2.0
PRODID:-//Bayou Beaux - ECPv6.15.20//NONSGML v1.0//EN
CALSCALE:GREGORIAN
METHOD:PUBLISH
X-WR-CALNAME:Bayou Beaux
X-ORIGINAL-URL:https://bayoubeaux.com
X-WR-CALDESC:Events for Bayou Beaux
REFRESH-INTERVAL;VALUE=DURATION:PT1H
X-Robots-Tag:noindex
X-PUBLISHED-TTL:PT1H
BEGIN:VTIMEZONE
TZID:UTC
BEGIN:STANDARD
TZOFFSETFROM:+0000
TZOFFSETTO:+0000
TZNAME:UTC
DTSTART:20230101T000000
END:STANDARD
END:VTIMEZONE
BEGIN:VEVENT
DTSTART;TZID=UTC:20240901T110000
DTEND;TZID=UTC:20240901T150000
DTSTAMP:20260426T032747
CREATED:20240731T060923Z
LAST-MODIFIED:20240731T060923Z
UID:4961-1725188400-1725202800@bayoubeaux.com
SUMMARY:New Caney Community Market
DESCRIPTION:Please come check out our Creole Seasonings\, BBQ Sauces\, Rubs\, and Creole Tings!. Come and enjoy the Louisiana Creole Experience!
URL:https://bayoubeaux.com/event/new-caney-community-market-19/
LOCATION:New Caney Community Market\, 21568 1/2 Market Pl Dr\,\, New Caney\, 77357
CATEGORIES:Artisan,Farmers Market,Markets,Pop Up Shop
ATTACH;FMTTYPE=image/jpeg:https://bayoubeaux.com/wp-content/uploads/2022/06/New-Caney-Community-Market.jpg
GEO:30.1348351;-95.2290399
X-APPLE-STRUCTURED-LOCATION;VALUE=URI;X-ADDRESS=New Caney Community Market 21568 1/2 Market Pl Dr New Caney 77357;X-APPLE-RADIUS=500;X-TITLE=21568 1/2 Market Pl Dr\,:geo:-95.2290399,30.1348351
END:VEVENT
BEGIN:VEVENT
DTSTART;TZID=UTC:20240901T110000
DTEND;TZID=UTC:20240901T150000
DTSTAMP:20260426T032747
CREATED:20241201T110019Z
LAST-MODIFIED:20240909T063038Z
UID:4982-1725188400-1725202800@bayoubeaux.com
SUMMARY:New Caney Community Market
DESCRIPTION:Please come check out our Creole Seasonings\, BBQ Sauces\, Rubs\, and Creole Tings!. Come and enjoy the Louisiana Creole Experience!
URL:https://bayoubeaux.com/event/new-caney-community-market-21/
LOCATION:New Caney Community Market\, 21568 1/2 Market Pl Dr\,\, New Caney\, 77357
CATEGORIES:Artisan,Farmers Market,Markets,Pop Up Shop
ATTACH;FMTTYPE=image/jpeg:https://bayoubeaux.com/wp-content/uploads/2022/06/New-Caney-Community-Market.jpg
GEO:30.1348351;-95.2290399
X-APPLE-STRUCTURED-LOCATION;VALUE=URI;X-ADDRESS=New Caney Community Market 21568 1/2 Market Pl Dr New Caney 77357;X-APPLE-RADIUS=500;X-TITLE=21568 1/2 Market Pl Dr\,:geo:-95.2290399,30.1348351
END:VEVENT
BEGIN:VEVENT
DTSTART;TZID=UTC:20240907T110000
DTEND;TZID=UTC:20240907T170000
DTSTAMP:20260426T032747
CREATED:20240626T053809Z
LAST-MODIFIED:20240730T051059Z
UID:4937-1725706800-1725728400@bayoubeaux.com
SUMMARY:In A Pickle Festival - Kingwood\, TX
DESCRIPTION:Check out our Creole Seasonings\, BBQ Sauces\, Rubs\, and Creole Tings!. Come and enjoy the Louisiana Creole Experience. \nWe will be showcasing our Creole Dill Pickle Seasoning \n 
URL:https://bayoubeaux.com/event/in-a-pickle-festival-kingwood-tx-2/
LOCATION:The Pickle Festival\, 8 N Main Street\, Kingwood\, TX\, 77339\, United States
CATEGORIES:Artisan,Festival,Markets,Pop Up Shop
ATTACH;FMTTYPE=image/jpeg:https://bayoubeaux.com/wp-content/uploads/2023/11/IMG_1332.jpeg
GEO:30.0474357;-95.1850849
X-APPLE-STRUCTURED-LOCATION;VALUE=URI;X-ADDRESS=The Pickle Festival 8 N Main Street Kingwood TX 77339 United States;X-APPLE-RADIUS=500;X-TITLE=8 N Main Street:geo:-95.1850849,30.0474357
END:VEVENT
BEGIN:VEVENT
DTSTART;TZID=UTC:20240914T090000
DTEND;TZID=UTC:20240914T160000
DTSTAMP:20260426T032747
CREATED:20240909T062604Z
LAST-MODIFIED:20240909T062604Z
UID:4977-1726304400-1726329600@bayoubeaux.com
SUMMARY:Kolache Festival - Caldwell\, TX
DESCRIPTION:We will be touching down for the first time at the “Kolache Festival” in Caldwell\, TX. We will be bring our Creole Experience of Seasonings and Sauces. We will have a special sauce for your Kolache that will give it a Zing. WE WILL BE IN BOOTH# BS14. We will be there from 9am to 4pm. \n  \n    \n\n 
URL:https://bayoubeaux.com/event/kolache-festival-caldwell-tx/
LOCATION:Caldwell\, TX\, Caldwell\, United States
CATEGORIES:Festival
ATTACH;FMTTYPE=image/png:https://bayoubeaux.com/wp-content/uploads/2024/09/334147655_925369638500585_4865653272713659745_n.png
GEO:43.6629384;-116.6873596
END:VEVENT
BEGIN:VEVENT
DTSTART;TZID=UTC:20240929T110000
DTEND;TZID=UTC:20240929T150000
DTSTAMP:20260426T032747
CREATED:20240813T041752Z
LAST-MODIFIED:20240813T041809Z
UID:4967-1727607600-1727622000@bayoubeaux.com
SUMMARY:Lake Houston Farmers Market - SUNDAY MARKET
DESCRIPTION:Please come check out our Creole Seasonings\, BBQ Sauces\, Rubs\, and Creole Tings!. Come and enjoy the Louisiana Creole Experience! We will have frozen gumbo!
URL:https://bayoubeaux.com/event/lake-houston-farmers-market-sunday-market-4/
LOCATION:Lake Houston Brewery\, 10614 FM 1960\, Huffman\, TX\, United States
CATEGORIES:Artisan,Brewery,Farmers Market,Markets,Pop Up Shop
ATTACH;FMTTYPE=image/jpeg:https://bayoubeaux.com/wp-content/uploads/2024/04/Lake-Houston-Sunday-market.jpg
GEO:30.0167872;-95.1179239
X-APPLE-STRUCTURED-LOCATION;VALUE=URI;X-ADDRESS=Lake Houston Brewery 10614 FM 1960 Huffman TX United States;X-APPLE-RADIUS=500;X-TITLE=10614 FM 1960:geo:-95.1179239,30.0167872
END:VEVENT
END:VCALENDAR