BEGIN:VCALENDAR
VERSION:2.0
PRODID:-//Bayou Beaux - ECPv6.15.20//NONSGML v1.0//EN
CALSCALE:GREGORIAN
METHOD:PUBLISH
X-ORIGINAL-URL:https://bayoubeaux.com
X-WR-CALDESC:Events for Bayou Beaux
REFRESH-INTERVAL;VALUE=DURATION:PT1H
X-Robots-Tag:noindex
X-PUBLISHED-TTL:PT1H
BEGIN:VTIMEZONE
TZID:UTC
BEGIN:STANDARD
TZOFFSETFROM:+0000
TZOFFSETTO:+0000
TZNAME:UTC
DTSTART:20230101T000000
END:STANDARD
END:VTIMEZONE
BEGIN:VEVENT
DTSTART;TZID=UTC:20241101T160000
DTEND;TZID=UTC:20241101T190000
DTSTAMP:20260426T004402
CREATED:20241028T034643Z
LAST-MODIFIED:20241028T034643Z
UID:5019-1730476800-1730487600@bayoubeaux.com
SUMMARY:Brenham's First Fridays' Artisan and Farmers Market
DESCRIPTION:Please come check out our Creole Seasonings\, BBQ Sauces\, Rubs\, and Creole Tings!. Come and enjoy the Louisiana Creole Experience! \nWE WILL BE ON COMMERCE STREET PARKING LOT DUE TO EARLY VOTING AT THE WASHINGTON COUNTY COURTHOUSE.
URL:https://bayoubeaux.com/event/brenhams-first-fridays-artisan-and-farmers-market-9/
LOCATION:Brenham Artisan & Farmers Market\, 100 E Main St.\, Brenham\, TX\, 77833\, United States
CATEGORIES:Artisan,Farmers Market,Markets,Pop Up Shop
ATTACH;FMTTYPE=image/jpeg:https://bayoubeaux.com/wp-content/uploads/2023/05/347601497_948844823108602_6698267440989647154_n.jpg
GEO:30.1671262;-96.3977122
X-APPLE-STRUCTURED-LOCATION;VALUE=URI;X-ADDRESS=Brenham Artisan & Farmers Market 100 E Main St. Brenham TX 77833 United States;X-APPLE-RADIUS=500;X-TITLE=100 E Main St.:geo:-96.3977122,30.1671262
END:VEVENT
BEGIN:VEVENT
DTSTART;TZID=UTC:20241103T110000
DTEND;TZID=UTC:20241103T150000
DTSTAMP:20260426T004402
CREATED:20240909T212342Z
LAST-MODIFIED:20240909T212342Z
UID:4983-1730631600-1730646000@bayoubeaux.com
SUMMARY:New Caney Community Market
DESCRIPTION:Please come check out our Creole Seasonings\, BBQ Sauces\, Rubs\, and Creole Tings!. Come and enjoy the Louisiana Creole Experience! \n \nSam’s Spicy Season-all
URL:https://bayoubeaux.com/event/new-caney-community-market-23/
LOCATION:New Caney Community Market\, 21568 1/2 Market Pl Dr\,\, New Caney\, 77357
CATEGORIES:Artisan,Farmers Market,Markets,Pop Up Shop
ATTACH;FMTTYPE=image/jpeg:https://bayoubeaux.com/wp-content/uploads/2022/06/New-Caney-Community-Market.jpg
GEO:30.1348351;-95.2290399
X-APPLE-STRUCTURED-LOCATION;VALUE=URI;X-ADDRESS=New Caney Community Market 21568 1/2 Market Pl Dr New Caney 77357;X-APPLE-RADIUS=500;X-TITLE=21568 1/2 Market Pl Dr\,:geo:-95.2290399,30.1348351
END:VEVENT
BEGIN:VEVENT
DTSTART;TZID=UTC:20241109T090000
DTEND;TZID=UTC:20241109T170000
DTSTAMP:20260426T004402
CREATED:20240927T221645Z
LAST-MODIFIED:20240927T221645Z
UID:5005-1731142800-1731171600@bayoubeaux.com
SUMMARY:Nutcracker Market - Conroe\, TX
DESCRIPTION:Please come check out our Creole Seasonings\, BBQ Sauces\, Rubs\, and Creole Tings!. Come and enjoy the Louisiana Creole Experience! We will have gift boxes. \n  \n \nBayou Beaux Beez Holiday Gift Box
URL:https://bayoubeaux.com/event/nutcracker-market-conroe-tx-2/
LOCATION:Lone Star Convention & Expo Center\, 9055 Airport Road\, Conroe\, TX\, 77303-4335\, United States
CATEGORIES:Markets,Pop Up Shop
ATTACH;FMTTYPE=image/jpeg:https://bayoubeaux.com/wp-content/uploads/2024/09/nutcracker.jpg
GEO:30.3441966;-95.4298046
X-APPLE-STRUCTURED-LOCATION;VALUE=URI;X-ADDRESS=Lone Star Convention & Expo Center 9055 Airport Road Conroe TX 77303-4335 United States;X-APPLE-RADIUS=500;X-TITLE=9055 Airport Road:geo:-95.4298046,30.3441966
END:VEVENT
BEGIN:VEVENT
DTSTART;TZID=UTC:20241110T110000
DTEND;TZID=UTC:20241110T150000
DTSTAMP:20260426T004402
CREATED:20241028T034142Z
LAST-MODIFIED:20241028T034142Z
UID:5017-1731236400-1731250800@bayoubeaux.com
SUMMARY:Lake Houston Farmers Market - SUNDAY MARKET
DESCRIPTION:Please come check out our Creole Seasonings\, BBQ Sauces\, Rubs\, and Creole Tings!. Come and enjoy the Louisiana Creole Experience! We will have frozen gumbo!
URL:https://bayoubeaux.com/event/lake-houston-farmers-market-sunday-market-6/
LOCATION:Lake Houston Brewery\, 10614 FM 1960\, Huffman\, TX\, United States
CATEGORIES:Artisan,Brewery,Farmers Market,Markets,Pop Up Shop
ATTACH;FMTTYPE=image/jpeg:https://bayoubeaux.com/wp-content/uploads/2023/10/imagejpeg_024002.jpg
GEO:30.0167872;-95.1179239
X-APPLE-STRUCTURED-LOCATION;VALUE=URI;X-ADDRESS=Lake Houston Brewery 10614 FM 1960 Huffman TX United States;X-APPLE-RADIUS=500;X-TITLE=10614 FM 1960:geo:-95.1179239,30.0167872
END:VEVENT
BEGIN:VEVENT
DTSTART;TZID=UTC:20241116T110000
DTEND;TZID=UTC:20241116T150000
DTSTAMP:20260426T004402
CREATED:20241112T011524Z
LAST-MODIFIED:20241112T011524Z
UID:5051-1731754800-1731769200@bayoubeaux.com
SUMMARY:Atascocita Commons Market
DESCRIPTION:Please come check out our Creole Seasonings\, BBQ Sauces\, Rubs\, and Creole Tings!. Come and enjoy the Louisiana Creole Experience! We will have frozen gumbo! \n 
URL:https://bayoubeaux.com/event/atascocita-commons-market/
LOCATION:Atascocita Commons Shopping Center\, 7067 FM 1960\, Humle\, TX\, 77346\, United States
CATEGORIES:Artisan,Brewery,Farmers Market,Markets,Pop Up Shop
ATTACH;FMTTYPE=image/jpeg:https://bayoubeaux.com/wp-content/uploads/2024/11/Atascocita-Commons-Market.jpg
GEO:30.0004044;-95.1696826
X-APPLE-STRUCTURED-LOCATION;VALUE=URI;X-ADDRESS=Atascocita Commons Shopping Center 7067 FM 1960 Humle TX 77346 United States;X-APPLE-RADIUS=500;X-TITLE=7067 FM 1960:geo:-95.1696826,30.0004044
END:VEVENT
BEGIN:VEVENT
DTSTART;TZID=UTC:20241123T100000
DTEND;TZID=UTC:20241123T160000
DTSTAMP:20260426T004402
CREATED:20240927T220342Z
LAST-MODIFIED:20240927T220342Z
UID:5001-1732356000-1732377600@bayoubeaux.com
SUMMARY:Xmas in Crockett\, TX
DESCRIPTION:For the first time\, we are coming to Crockett\, TX. East Texas\, look out because Gumbeaux Mayne will be there delivering our Creole Experience of Seasonings and Creole Tings. \n  \n \nBayou Beaux Beez Holiday Gift Box
URL:https://bayoubeaux.com/event/xmas-in-crockett-tx/
LOCATION:Downtown Crockett\, TX\, 406 E Houston Ave\, Crockett\, 75835\, United States
CATEGORIES:Artisan,Farmers Market,Festival,Markets
ATTACH;FMTTYPE=image/jpeg:https://bayoubeaux.com/wp-content/uploads/2024/09/Christmas-in-Crockett.jpg
GEO:31.3185817;-95.4576527
X-APPLE-STRUCTURED-LOCATION;VALUE=URI;X-ADDRESS=Downtown Crockett TX 406 E Houston Ave Crockett 75835 United States;X-APPLE-RADIUS=500;X-TITLE=406 E Houston Ave:geo:-95.4576527,31.3185817
END:VEVENT
BEGIN:VEVENT
DTSTART;TZID=UTC:20241124T110000
DTEND;TZID=UTC:20241124T150000
DTSTAMP:20260426T004402
CREATED:20241120T053805Z
LAST-MODIFIED:20241120T053805Z
UID:5061-1732446000-1732460400@bayoubeaux.com
SUMMARY:Lake Houston Farmers Market - THANKSGIVING MARKET
DESCRIPTION:Please come check out our Creole Seasonings\, BBQ Sauces\, Rubs\, and Creole Tings!. Come and enjoy the Louisiana Creole Experience! We will have frozen gumbo!
URL:https://bayoubeaux.com/event/lake-houston-farmers-market-thanksgiving-market/
LOCATION:Lake Houston Brewery\, 10614 FM 1960\, Huffman\, TX\, United States
CATEGORIES:Artisan,Brewery,Farmers Market,Markets,Pop Up Shop
ATTACH;FMTTYPE=image/jpeg:https://bayoubeaux.com/wp-content/uploads/2023/10/imagejpeg_024002.jpg
GEO:30.0167872;-95.1179239
X-APPLE-STRUCTURED-LOCATION;VALUE=URI;X-ADDRESS=Lake Houston Brewery 10614 FM 1960 Huffman TX United States;X-APPLE-RADIUS=500;X-TITLE=10614 FM 1960:geo:-95.1179239,30.0167872
END:VEVENT
END:VCALENDAR