BEGIN:VCALENDAR
VERSION:2.0
PRODID:-//Bayou Beaux - ECPv6.15.20//NONSGML v1.0//EN
CALSCALE:GREGORIAN
METHOD:PUBLISH
X-WR-CALNAME:Bayou Beaux
X-ORIGINAL-URL:https://bayoubeaux.com
X-WR-CALDESC:Events for Bayou Beaux
REFRESH-INTERVAL;VALUE=DURATION:PT1H
X-Robots-Tag:noindex
X-PUBLISHED-TTL:PT1H
BEGIN:VTIMEZONE
TZID:UTC
BEGIN:STANDARD
TZOFFSETFROM:+0000
TZOFFSETTO:+0000
TZNAME:UTC
DTSTART:20230101T000000
END:STANDARD
END:VTIMEZONE
BEGIN:VEVENT
DTSTART;TZID=UTC:20241201T110000
DTEND;TZID=UTC:20241201T150000
DTSTAMP:20260425T231924
CREATED:20240909T214446Z
LAST-MODIFIED:20240909T214446Z
UID:4990-1733050800-1733065200@bayoubeaux.com
SUMMARY:New Caney Community Market
DESCRIPTION:Please come check out our Creole Seasonings\, BBQ Sauces\, Rubs\, and Creole Tings!. Come and enjoy the Louisiana Creole Experience!
URL:https://bayoubeaux.com/event/new-caney-community-market-24/
LOCATION:New Caney Community Market\, 21568 1/2 Market Pl Dr\,\, New Caney\, 77357
CATEGORIES:Artisan,Farmers Market,Markets,Pop Up Shop
ATTACH;FMTTYPE=image/jpeg:https://bayoubeaux.com/wp-content/uploads/2022/06/New-Caney-Community-Market.jpg
GEO:30.1348351;-95.2290399
X-APPLE-STRUCTURED-LOCATION;VALUE=URI;X-ADDRESS=New Caney Community Market 21568 1/2 Market Pl Dr New Caney 77357;X-APPLE-RADIUS=500;X-TITLE=21568 1/2 Market Pl Dr\,:geo:-95.2290399,30.1348351
END:VEVENT
BEGIN:VEVENT
DTSTART;TZID=UTC:20241206T170000
DTEND;TZID=UTC:20241206T200000
DTSTAMP:20260425T231924
CREATED:20240731T060757Z
LAST-MODIFIED:20241112T032126Z
UID:4959-1733504400-1733515200@bayoubeaux.com
SUMMARY:Spring Trails Winter Festival
DESCRIPTION:Gumbeaux Mayne will be bringing the Holiday Spirit to Spring Trails with our Creole Seasonings and Creole Tings.
URL:https://bayoubeaux.com/event/spring-trails-winter-festival/
LOCATION:Spring Trails Community Center\, 2026 Spring Trails Bend\, Spring\, TX\, 77386\, United States
CATEGORIES:Artisan,Farmers Market,Festival,Pop Up Shop
ATTACH;FMTTYPE=image/png:https://bayoubeaux.com/wp-content/uploads/2024/07/Flyer-for-Winterfest.png
GEO:30.1008839;-95.3936864
X-APPLE-STRUCTURED-LOCATION;VALUE=URI;X-ADDRESS=Spring Trails Community Center 2026 Spring Trails Bend Spring TX 77386 United States;X-APPLE-RADIUS=500;X-TITLE=2026 Spring Trails Bend:geo:-95.3936864,30.1008839
END:VEVENT
BEGIN:VEVENT
DTSTART;TZID=UTC:20241207T150000
DTEND;TZID=UTC:20241207T190000
DTSTAMP:20260425T231924
CREATED:20241120T053350Z
LAST-MODIFIED:20241207T074017Z
UID:5062-1733583600-1733598000@bayoubeaux.com
SUMMARY:Polar Express @ Grand Oak High School
DESCRIPTION:Please come check out our Creole Seasonings\, BBQ Sauces\, Rubs\, and Creole Tings!. Come and enjoy the Louisiana Creole Experience! \n 
URL:https://bayoubeaux.com/event/polar-express-grand-oak-high-school/
LOCATION:Grand Oaks High School\, 4800 Riley Fuzzel Rd\, Spring\, TX\, 77386\, United States
CATEGORIES:Artisan,Community Service,Festival,Pop Up Shop
ATTACH;FMTTYPE=image/jpeg:https://bayoubeaux.com/wp-content/uploads/2023/10/imagejpeg_024002.jpg
GEO:30.1237222;-95.3628752
X-APPLE-STRUCTURED-LOCATION;VALUE=URI;X-ADDRESS=Grand Oaks High School 4800 Riley Fuzzel Rd Spring TX 77386 United States;X-APPLE-RADIUS=500;X-TITLE=4800 Riley Fuzzel Rd:geo:-95.3628752,30.1237222
END:VEVENT
BEGIN:VEVENT
DTSTART;TZID=UTC:20241208T110000
DTEND;TZID=UTC:20241208T150000
DTSTAMP:20260425T231924
CREATED:20240927T222242Z
LAST-MODIFIED:20241207T075051Z
UID:5008-1733655600-1733670000@bayoubeaux.com
SUMMARY:Lake Houston Farmers Market - SUNDAY MARKET
DESCRIPTION:Please come check out our Creole Seasonings\, BBQ Sauces\, Rubs\, and Creole Tings!. Come and enjoy the Louisiana Creole Experience! We will have frozen gumbo!
URL:https://bayoubeaux.com/event/lake-houston-farmers-market-sunday-market-5/
LOCATION:Megaton Brewery\, 808 Russell Palmer Road\, Kingwood\, TX\, 77339\, United States
CATEGORIES:Artisan,Brewery,Farmers Market,Markets,Pop Up Shop
ATTACH;FMTTYPE=image/png:https://bayoubeaux.com/wp-content/uploads/2024/09/LHFM_Santa-2024-SPECIAL-LOCATION.png
GEO:30.0649718;-95.226586
X-APPLE-STRUCTURED-LOCATION;VALUE=URI;X-ADDRESS=Megaton Brewery 808 Russell Palmer Road Kingwood TX 77339 United States;X-APPLE-RADIUS=500;X-TITLE=808 Russell Palmer Road:geo:-95.226586,30.0649718
END:VEVENT
BEGIN:VEVENT
DTSTART;TZID=UTC:20241214T100000
DTEND;TZID=UTC:20241214T183000
DTSTAMP:20260425T231924
CREATED:20240927T215617Z
LAST-MODIFIED:20240927T215617Z
UID:4999-1734170400-1734201000@bayoubeaux.com
SUMMARY:Post Oak Mall
DESCRIPTION:Gumbeaux Mayne is coming back to Bryan/College Station.  Please come check out our Creole Seasonings\, BBQ Sauces\, Rubs\, and Creole Tings!. Come and enjoy the Louisiana Creole Experience! \n 
URL:https://bayoubeaux.com/event/post-oak-mall-6/
LOCATION:Post Oak Mall\, 15400 Harvey Road\, College Station\, TX\, 77840\, United States
CATEGORIES:Mall,Markets,Pop Up Shop
ATTACH;FMTTYPE=image/jpeg:https://bayoubeaux.com/wp-content/uploads/2023/11/IMG_1666-scaled.jpg
GEO:30.6285479;-96.3035872
X-APPLE-STRUCTURED-LOCATION;VALUE=URI;X-ADDRESS=Post Oak Mall 15400 Harvey Road College Station TX 77840 United States;X-APPLE-RADIUS=500;X-TITLE=15400 Harvey Road:geo:-96.3035872,30.6285479
END:VEVENT
BEGIN:VEVENT
DTSTART;TZID=UTC:20241215T110000
DTEND;TZID=UTC:20241215T150000
DTSTAMP:20260425T231924
CREATED:20241125T051953Z
LAST-MODIFIED:20241210T063124Z
UID:5065-1734260400-1734274800@bayoubeaux.com
SUMMARY:Lake Houston Farmers Market - SUNDAY MARKET
DESCRIPTION:Please come check out our Creole Seasonings\, BBQ Sauces\, Rubs\, and Creole Tings!. Come and enjoy the Louisiana Creole Experience! We will have frozen gumbo!
URL:https://bayoubeaux.com/event/lake-houston-farmers-market-sunday-market-7/
LOCATION:Lake Houston Brewery\, 10614 FM 1960\, Huffman\, TX\, United States
CATEGORIES:Artisan,Brewery,Farmers Market,Markets,Pop Up Shop
ATTACH;FMTTYPE=image/jpeg:https://bayoubeaux.com/wp-content/uploads/2024/11/Grinch-Market-Lake-Houston.jpg
GEO:30.0167872;-95.1179239
X-APPLE-STRUCTURED-LOCATION;VALUE=URI;X-ADDRESS=Lake Houston Brewery 10614 FM 1960 Huffman TX United States;X-APPLE-RADIUS=500;X-TITLE=10614 FM 1960:geo:-95.1179239,30.0167872
END:VEVENT
BEGIN:VEVENT
DTSTART;TZID=UTC:20241221T100000
DTEND;TZID=UTC:20241224T200000
DTSTAMP:20260425T231924
CREATED:20240927T042604Z
LAST-MODIFIED:20240927T042604Z
UID:4997-1734775200-1735070400@bayoubeaux.com
SUMMARY:Xmas at Parkdale Mall
DESCRIPTION:Please come check out our Creole Seasonings\, BBQ Sauces\, Rubs\, and Creole Tings!. Come and enjoy the Louisiana Creole Experience! \nWe will have gift boxes! \n  \nBayou Beaux Beez Holiday Gift Box\nBayou Beaux Beez Holiday Gift Box\nBayou Beaux Beez Holiday Gift Box\n  \n  \n 
URL:https://bayoubeaux.com/event/xmas-at-parkdale-mall/2024-12-21/
LOCATION:Parkdale Mall\, 6155 Eastex Fwy\, Beaumont\, TX\, 77706\, United States
CATEGORIES:Artisan,Mall,Pop Up Shop
ATTACH;FMTTYPE=image/jpeg:https://bayoubeaux.com/wp-content/uploads/2023/11/IMG_1677-scaled.jpg
GEO:30.1240515;-94.1616977
X-APPLE-STRUCTURED-LOCATION;VALUE=URI;X-ADDRESS=Parkdale Mall 6155 Eastex Fwy Beaumont TX 77706 United States;X-APPLE-RADIUS=500;X-TITLE=6155 Eastex Fwy:geo:-94.1616977,30.1240515
END:VEVENT
END:VCALENDAR