BEGIN:VCALENDAR
VERSION:2.0
PRODID:-//Bayou Beaux - ECPv6.15.20//NONSGML v1.0//EN
CALSCALE:GREGORIAN
METHOD:PUBLISH
X-ORIGINAL-URL:https://bayoubeaux.com
X-WR-CALDESC:Events for Bayou Beaux
REFRESH-INTERVAL;VALUE=DURATION:PT1H
X-Robots-Tag:noindex
X-PUBLISHED-TTL:PT1H
BEGIN:VTIMEZONE
TZID:UTC
BEGIN:STANDARD
TZOFFSETFROM:+0000
TZOFFSETTO:+0000
TZNAME:UTC
DTSTART:20230101T000000
END:STANDARD
END:VTIMEZONE
BEGIN:VEVENT
DTSTART;TZID=UTC:20241109T090000
DTEND;TZID=UTC:20241109T170000
DTSTAMP:20260426T021628
CREATED:20240927T221645Z
LAST-MODIFIED:20240927T221645Z
UID:5005-1731142800-1731171600@bayoubeaux.com
SUMMARY:Nutcracker Market - Conroe\, TX
DESCRIPTION:Please come check out our Creole Seasonings\, BBQ Sauces\, Rubs\, and Creole Tings!. Come and enjoy the Louisiana Creole Experience! We will have gift boxes. \n  \n \nBayou Beaux Beez Holiday Gift Box
URL:https://bayoubeaux.com/event/nutcracker-market-conroe-tx-2/
LOCATION:Lone Star Convention & Expo Center\, 9055 Airport Road\, Conroe\, TX\, 77303-4335\, United States
CATEGORIES:Markets,Pop Up Shop
ATTACH;FMTTYPE=image/jpeg:https://bayoubeaux.com/wp-content/uploads/2024/09/nutcracker.jpg
GEO:30.3441966;-95.4298046
X-APPLE-STRUCTURED-LOCATION;VALUE=URI;X-ADDRESS=Lone Star Convention & Expo Center 9055 Airport Road Conroe TX 77303-4335 United States;X-APPLE-RADIUS=500;X-TITLE=9055 Airport Road:geo:-95.4298046,30.3441966
END:VEVENT
END:VCALENDAR