BEGIN:VCALENDAR
VERSION:2.0
PRODID:-//Bayou Beaux - ECPv6.15.20//NONSGML v1.0//EN
CALSCALE:GREGORIAN
METHOD:PUBLISH
X-ORIGINAL-URL:https://bayoubeaux.com
X-WR-CALDESC:Events for Bayou Beaux
REFRESH-INTERVAL;VALUE=DURATION:PT1H
X-Robots-Tag:noindex
X-PUBLISHED-TTL:PT1H
BEGIN:VTIMEZONE
TZID:UTC
BEGIN:STANDARD
TZOFFSETFROM:+0000
TZOFFSETTO:+0000
TZNAME:UTC
DTSTART:20240101T000000
END:STANDARD
END:VTIMEZONE
BEGIN:VEVENT
DTSTART;TZID=UTC:20251212T100000
DTEND;TZID=UTC:20251213T200000
DTSTAMP:20260421T203035
CREATED:20251028T045928Z
LAST-MODIFIED:20251028T045928Z
UID:5208-1765533600-1765656000@bayoubeaux.com
SUMMARY:Richland Mall
DESCRIPTION:Please come check out the Premium and Gourmet expereience of Creole Seasonings\, BBQ Sauces\, Rubs\, and Creole Tings!. Come and enjoy the Louisiana Creole Experience! \n \nCreole Gumbo Roux
URL:https://bayoubeaux.com/event/richland-mall-6/
LOCATION:Richland Mall\, 6001 W Waco Dr\,\, Waco\, TX\, 76710\, United States
CATEGORIES:Mall,Markets,Pop Up Shop
ATTACH;FMTTYPE=image/jpeg:https://bayoubeaux.com/wp-content/uploads/2023/10/imagejpeg_024002.jpg
GEO:31.5164049;-97.188648
X-APPLE-STRUCTURED-LOCATION;VALUE=URI;X-ADDRESS=Richland Mall 6001 W Waco Dr Waco TX 76710 United States;X-APPLE-RADIUS=500;X-TITLE=6001 W Waco Dr\,:geo:-97.188648,31.5164049
END:VEVENT
END:VCALENDAR