BEGIN:VCALENDAR
VERSION:2.0
PRODID:-//Bayou Beaux - ECPv6.15.20//NONSGML v1.0//EN
CALSCALE:GREGORIAN
METHOD:PUBLISH
X-WR-CALNAME:Bayou Beaux
X-ORIGINAL-URL:https://bayoubeaux.com
X-WR-CALDESC:Events for Bayou Beaux
REFRESH-INTERVAL;VALUE=DURATION:PT1H
X-Robots-Tag:noindex
X-PUBLISHED-TTL:PT1H
BEGIN:VTIMEZONE
TZID:UTC
BEGIN:STANDARD
TZOFFSETFROM:+0000
TZOFFSETTO:+0000
TZNAME:UTC
DTSTART:20250101T000000
END:STANDARD
END:VTIMEZONE
BEGIN:VEVENT
DTSTART;TZID=UTC:20260131T120000
DTEND;TZID=UTC:20260131T180000
DTSTAMP:20260421T170757
CREATED:20260125T021242Z
LAST-MODIFIED:20260125T021242Z
UID:5296-1769860800-1769882400@bayoubeaux.com
SUMMARY:Bay City Camo Fest
DESCRIPTION:Please come check out our Gourmet and Premium Creole Seasonings\, BBQ Sauces\, Rubs\, and Creole Tings!. Come and enjoy the Louisiana Creole Experience! We will have frozen gumbo! \n 
URL:https://bayoubeaux.com/event/bay-city-camo-fest/
LOCATION:Bay City Camo Fest\, 1700 7th Street\, Bay City\, TX\, 77414\, United States
CATEGORIES:Artisan,Festival,Markets,Pop Up Shop
ATTACH;FMTTYPE=image/png:https://bayoubeaux.com/wp-content/uploads/2026/01/baycity-camofest.png
GEO:28.9823832;-95.9694617
X-APPLE-STRUCTURED-LOCATION;VALUE=URI;X-ADDRESS=Bay City Camo Fest 1700 7th Street Bay City TX 77414 United States;X-APPLE-RADIUS=500;X-TITLE=1700 7th Street:geo:-95.9694617,28.9823832
END:VEVENT
END:VCALENDAR