BEGIN:VCALENDAR
VERSION:2.0
PRODID:-//Bayou Beaux - ECPv6.15.20//NONSGML v1.0//EN
CALSCALE:GREGORIAN
METHOD:PUBLISH
X-WR-CALNAME:Bayou Beaux
X-ORIGINAL-URL:https://bayoubeaux.com
X-WR-CALDESC:Events for Bayou Beaux
REFRESH-INTERVAL;VALUE=DURATION:PT1H
X-Robots-Tag:noindex
X-PUBLISHED-TTL:PT1H
BEGIN:VTIMEZONE
TZID:UTC
BEGIN:STANDARD
TZOFFSETFROM:+0000
TZOFFSETTO:+0000
TZNAME:UTC
DTSTART:20250101T000000
END:STANDARD
END:VTIMEZONE
BEGIN:VEVENT
DTSTART;TZID=UTC:20260308T110000
DTEND;TZID=UTC:20260308T170000
DTSTAMP:20260421T154011
CREATED:20260125T045248Z
LAST-MODIFIED:20260125T045248Z
UID:5323-1772967600-1772989200@bayoubeaux.com
SUMMARY:In A Pickle Festival - Rosenberg\, TX
DESCRIPTION:Please come check out our Gourmet and Premium Creole Seasonings\, BBQ Sauces\, Rubs\, and Creole Tings!. Come and enjoy the Louisiana Creole Experience! We will have frozen gumbo! \n 
URL:https://bayoubeaux.com/event/in-a-pickle-festival-rosenberg-tx-2/
LOCATION:Fort Bend County Rosenberg Annex\, 4520 Reading Road\, Rosenberg\, TX\, 77471\, United States
CATEGORIES:Artisan,Festival,Markets,Pop Up Shop
ATTACH;FMTTYPE=image/jpeg:https://bayoubeaux.com/wp-content/uploads/2026/01/In-A-Pickel.jpg
GEO:29.5635065;-95.7798707
X-APPLE-STRUCTURED-LOCATION;VALUE=URI;X-ADDRESS=Fort Bend County Rosenberg Annex 4520 Reading Road Rosenberg TX 77471 United States;X-APPLE-RADIUS=500;X-TITLE=4520 Reading Road:geo:-95.7798707,29.5635065
END:VEVENT
END:VCALENDAR