BEGIN:VCALENDAR
VERSION:2.0
PRODID:-//Bayou Beaux - ECPv6.15.20//NONSGML v1.0//EN
CALSCALE:GREGORIAN
METHOD:PUBLISH
X-ORIGINAL-URL:https://bayoubeaux.com
X-WR-CALDESC:Events for Bayou Beaux
REFRESH-INTERVAL;VALUE=DURATION:PT1H
X-Robots-Tag:noindex
X-PUBLISHED-TTL:PT1H
BEGIN:VTIMEZONE
TZID:UTC
BEGIN:STANDARD
TZOFFSETFROM:+0000
TZOFFSETTO:+0000
TZNAME:UTC
DTSTART:20250101T000000
END:STANDARD
END:VTIMEZONE
BEGIN:VEVENT
DTSTART;TZID=UTC:20260404T090000
DTEND;TZID=UTC:20260404T150000
DTSTAMP:20260421T140829
CREATED:20260125T041055Z
LAST-MODIFIED:20260125T041055Z
UID:5303-1775293200-1775314800@bayoubeaux.com
SUMMARY:Bloom on Main Festival - Many\, LA
DESCRIPTION:We are coming home to Sabine Parish. Please come and check out our  Gourmet Creole Experience of Seasonings and Creole Tings. We will also be offering frozen Gumbo. We do accept preorders. Please visit our website. The address is 705 Main Street\, Many\, LA 71449-7755. We will be there from 9am to 3pm on each day.
URL:https://bayoubeaux.com/event/bloom-on-main-festival-many-la-2/
LOCATION:Many Town Square\, 705 Main Street\, Many\, LA\, 71449\, United States
CATEGORIES:Convention,Festival,Markets,Pop Up Shop
GEO:31.5678736;-93.4838751
X-APPLE-STRUCTURED-LOCATION;VALUE=URI;X-ADDRESS=Many Town Square 705 Main Street Many LA 71449 United States;X-APPLE-RADIUS=500;X-TITLE=705 Main Street:geo:-93.4838751,31.5678736
END:VEVENT
END:VCALENDAR