BEGIN:VCALENDAR
VERSION:2.0
PRODID:-//Bayou Beaux - ECPv6.15.20//NONSGML v1.0//EN
CALSCALE:GREGORIAN
METHOD:PUBLISH
X-ORIGINAL-URL:https://bayoubeaux.com
X-WR-CALDESC:Events for Bayou Beaux
REFRESH-INTERVAL;VALUE=DURATION:PT1H
X-Robots-Tag:noindex
X-PUBLISHED-TTL:PT1H
BEGIN:VTIMEZONE
TZID:UTC
BEGIN:STANDARD
TZOFFSETFROM:+0000
TZOFFSETTO:+0000
TZNAME:UTC
DTSTART:20250101T000000
END:STANDARD
END:VTIMEZONE
BEGIN:VEVENT
DTSTART;TZID=UTC:20260301T110000
DTEND;TZID=UTC:20260301T150000
DTSTAMP:20260421T144825
CREATED:20260125T013618Z
LAST-MODIFIED:20260125T013618Z
UID:5275-1772362800-1772377200@bayoubeaux.com
SUMMARY:New Caney Community Market
DESCRIPTION:Please come check out our Creole Seasonings\, BBQ Sauces\, Rubs\, and Creole Tings!. Come and enjoy the Louisiana Creole Experience!
URL:https://bayoubeaux.com/event/new-caney-community-market-37/2026-03-01/
LOCATION:New Caney Community Market\, 21568 1/2 Market Pl Dr\,\, New Caney\, 77357
CATEGORIES:Artisan,Farmers Market,Markets,Pop Up Shop
ATTACH;FMTTYPE=image/jpeg:https://bayoubeaux.com/wp-content/uploads/2022/06/New-Caney-Community-Market.jpg
GEO:30.1348351;-95.2290399
X-APPLE-STRUCTURED-LOCATION;VALUE=URI;X-ADDRESS=New Caney Community Market 21568 1/2 Market Pl Dr New Caney 77357;X-APPLE-RADIUS=500;X-TITLE=21568 1/2 Market Pl Dr\,:geo:-95.2290399,30.1348351
END:VEVENT
BEGIN:VEVENT
DTSTART;TZID=UTC:20260307T110000
DTEND;TZID=UTC:20260307T170000
DTSTAMP:20260421T144825
CREATED:20260125T044318Z
LAST-MODIFIED:20260125T044318Z
UID:5319-1772881200-1772902800@bayoubeaux.com
SUMMARY:In A Pickle Festival - Rosenberg\, TX
DESCRIPTION:Please come check out our Gourmet and Premium Creole Seasonings\, BBQ Sauces\, Rubs\, and Creole Tings!. Come and enjoy the Louisiana Creole Experience! We will have frozen gumbo! \n 
URL:https://bayoubeaux.com/event/in-a-pickle-festival-rosenberg-tx/
LOCATION:Fort Bend County Rosenberg Annex\, 4520 Reading Road\, Rosenberg\, TX\, 77471\, United States
CATEGORIES:Artisan,Festival,Markets,Pop Up Shop
ATTACH;FMTTYPE=image/jpeg:https://bayoubeaux.com/wp-content/uploads/2026/01/In-A-Pickel.jpg
GEO:29.5635065;-95.7798707
X-APPLE-STRUCTURED-LOCATION;VALUE=URI;X-ADDRESS=Fort Bend County Rosenberg Annex 4520 Reading Road Rosenberg TX 77471 United States;X-APPLE-RADIUS=500;X-TITLE=4520 Reading Road:geo:-95.7798707,29.5635065
END:VEVENT
BEGIN:VEVENT
DTSTART;TZID=UTC:20260308T110000
DTEND;TZID=UTC:20260308T170000
DTSTAMP:20260421T144825
CREATED:20260125T045248Z
LAST-MODIFIED:20260125T045248Z
UID:5323-1772967600-1772989200@bayoubeaux.com
SUMMARY:In A Pickle Festival - Rosenberg\, TX
DESCRIPTION:Please come check out our Gourmet and Premium Creole Seasonings\, BBQ Sauces\, Rubs\, and Creole Tings!. Come and enjoy the Louisiana Creole Experience! We will have frozen gumbo! \n 
URL:https://bayoubeaux.com/event/in-a-pickle-festival-rosenberg-tx-2/
LOCATION:Fort Bend County Rosenberg Annex\, 4520 Reading Road\, Rosenberg\, TX\, 77471\, United States
CATEGORIES:Artisan,Festival,Markets,Pop Up Shop
ATTACH;FMTTYPE=image/jpeg:https://bayoubeaux.com/wp-content/uploads/2026/01/In-A-Pickel.jpg
GEO:29.5635065;-95.7798707
X-APPLE-STRUCTURED-LOCATION;VALUE=URI;X-ADDRESS=Fort Bend County Rosenberg Annex 4520 Reading Road Rosenberg TX 77471 United States;X-APPLE-RADIUS=500;X-TITLE=4520 Reading Road:geo:-95.7798707,29.5635065
END:VEVENT
BEGIN:VEVENT
DTSTART;TZID=UTC:20260315T110000
DTEND;TZID=UTC:20260315T150000
DTSTAMP:20260421T144825
CREATED:20260326T032556Z
LAST-MODIFIED:20260326T033023Z
UID:5352-1773572400-1773586800@bayoubeaux.com
SUMMARY:New Caney Community Market
DESCRIPTION:Please come check out our Creole Seasonings\, BBQ Sauces\, Rubs\, and Creole Tings!. Come and enjoy the Louisiana Creole Experience!
URL:https://bayoubeaux.com/event/new-caney-community-market-38/
LOCATION:New Caney Community Market\, 21568 1/2 Market Pl Dr\,\, New Caney\, 77357
CATEGORIES:Artisan,Farmers Market,Markets,Pop Up Shop
ATTACH;FMTTYPE=image/jpeg:https://bayoubeaux.com/wp-content/uploads/2022/06/New-Caney-Community-Market.jpg
GEO:30.1348351;-95.2290399
X-APPLE-STRUCTURED-LOCATION;VALUE=URI;X-ADDRESS=New Caney Community Market 21568 1/2 Market Pl Dr New Caney 77357;X-APPLE-RADIUS=500;X-TITLE=21568 1/2 Market Pl Dr\,:geo:-95.2290399,30.1348351
END:VEVENT
BEGIN:VEVENT
DTSTART;TZID=UTC:20260328T090000
DTEND;TZID=UTC:20260328T160000
DTSTAMP:20260421T144825
CREATED:20260125T065358Z
LAST-MODIFIED:20260326T035203Z
UID:5343-1774688400-1774713600@bayoubeaux.com
SUMMARY:Tyler County Dogwood Festival
DESCRIPTION:We are coming to the Piney Woods of East Texas to deliver our Gourmet Creole Experience of Seasonings and Tings. \nBooth ##28 \n 
URL:https://bayoubeaux.com/event/tyler-county-dogwood-festival/
LOCATION:Tyler County Courthouse\, 100 W Bluff Street\, Woodville\, TX\, 75979\, United States
CATEGORIES:Artisan,Festival,Markets,Pop Up Shop
ATTACH;FMTTYPE=image/jpeg:https://bayoubeaux.com/wp-content/uploads/2026/01/Tyler-county-dogwood-festival.jpg
GEO:30.7749771;-94.415691
X-APPLE-STRUCTURED-LOCATION;VALUE=URI;X-ADDRESS=Tyler County Courthouse 100 W Bluff Street Woodville TX 75979 United States;X-APPLE-RADIUS=500;X-TITLE=100 W Bluff Street:geo:-94.415691,30.7749771
END:VEVENT
BEGIN:VEVENT
DTSTART;TZID=UTC:20260329T110000
DTEND;TZID=UTC:20260329T150000
DTSTAMP:20260421T144826
CREATED:20260326T032732Z
LAST-MODIFIED:20260326T032732Z
UID:5351-1774782000-1774796400@bayoubeaux.com
SUMMARY:Lake Houston Farmers Market - SUNDAY MARKET
DESCRIPTION:Please come check out our Gourmet and Premium Creole Seasonings\, BBQ Sauces\, Rubs\, and Creole Tings!. Come and enjoy the Louisiana Creole Experience! We will have frozen gumbo!
URL:https://bayoubeaux.com/event/lake-houston-farmers-market-sunday-market-17/
LOCATION:Walden on Lake Houston Country Club\, 18100 Walden Forest Drive\, Humble\, TX\, 77346\, United States
CATEGORIES:Artisan,Farmers Market,Markets,Pop Up Shop
ATTACH;FMTTYPE=image/jpeg:https://bayoubeaux.com/wp-content/uploads/2023/02/Lake-Houston-Farmers-Market.jpg
GEO:29.9914037;-95.147428
X-APPLE-STRUCTURED-LOCATION;VALUE=URI;X-ADDRESS=Walden on Lake Houston Country Club 18100 Walden Forest Drive Humble TX 77346 United States;X-APPLE-RADIUS=500;X-TITLE=18100 Walden Forest Drive:geo:-95.147428,29.9914037
END:VEVENT
END:VCALENDAR