BEGIN:VCALENDAR
VERSION:2.0
PRODID:-//Bayou Beaux - ECPv6.15.20//NONSGML v1.0//EN
CALSCALE:GREGORIAN
METHOD:PUBLISH
X-WR-CALNAME:Bayou Beaux
X-ORIGINAL-URL:https://bayoubeaux.com
X-WR-CALDESC:Events for Bayou Beaux
REFRESH-INTERVAL;VALUE=DURATION:PT1H
X-Robots-Tag:noindex
X-PUBLISHED-TTL:PT1H
BEGIN:VTIMEZONE
TZID:UTC
BEGIN:STANDARD
TZOFFSETFROM:+0000
TZOFFSETTO:+0000
TZNAME:UTC
DTSTART:20240101T000000
END:STANDARD
END:VTIMEZONE
BEGIN:VEVENT
DTSTART;TZID=UTC:20251206T110000
DTEND;TZID=UTC:20251207T190000
DTSTAMP:20260422T110932
CREATED:20251028T050400Z
LAST-MODIFIED:20251113T235752Z
UID:5207-1765018800-1765134000@bayoubeaux.com
SUMMARY:Post Oak Mall
DESCRIPTION:Gumbeaux Mayne is coming back to Bryan/College Station.  Please come check out our Creole Seasonings\, BBQ Sauces\, Rubs\, and Creole Tings!. Come and enjoy the Louisiana Creole Experience! \n 
URL:https://bayoubeaux.com/event/post-oak-mall-7/
LOCATION:Post Oak Mall\, 15400 Harvey Road\, College Station\, TX\, 77840\, United States
CATEGORIES:Mall,Markets,Pop Up Shop
ATTACH;FMTTYPE=image/jpeg:https://bayoubeaux.com/wp-content/uploads/2023/11/IMG_1666-scaled.jpg
GEO:30.6285479;-96.3035872
X-APPLE-STRUCTURED-LOCATION;VALUE=URI;X-ADDRESS=Post Oak Mall 15400 Harvey Road College Station TX 77840 United States;X-APPLE-RADIUS=500;X-TITLE=15400 Harvey Road:geo:-96.3035872,30.6285479
END:VEVENT
END:VCALENDAR