BEGIN:VCALENDAR
VERSION:2.0
PRODID:-//Bayou Beaux - ECPv6.15.20//NONSGML v1.0//EN
CALSCALE:GREGORIAN
METHOD:PUBLISH
X-ORIGINAL-URL:https://bayoubeaux.com
X-WR-CALDESC:Events for Bayou Beaux
REFRESH-INTERVAL;VALUE=DURATION:PT1H
X-Robots-Tag:noindex
X-PUBLISHED-TTL:PT1H
BEGIN:VTIMEZONE
TZID:UTC
BEGIN:STANDARD
TZOFFSETFROM:+0000
TZOFFSETTO:+0000
TZNAME:UTC
DTSTART:20250101T000000
END:STANDARD
END:VTIMEZONE
BEGIN:VEVENT
DTSTART;TZID=UTC:20260912T090000
DTEND;TZID=UTC:20260912T160000
DTSTAMP:20260422T021738
CREATED:20260125T063306Z
LAST-MODIFIED:20260125T063306Z
UID:5288-1789203600-1789228800@bayoubeaux.com
SUMMARY:Kolache Festival - Caldwell\, TX
DESCRIPTION:We will be touching down for the first time at the “Kolache Festival” in Caldwell\, TX. We will be bring our Creole Experience of Seasonings and Sauces. We will have a special sauce for your Kolache that will give it a Zing. WE WILL BE IN BOOTH# BS14. We will be there from 9am to 4pm. \n  \n    \n\n 
URL:https://bayoubeaux.com/event/kolache-festival-caldwell-tx-3/
LOCATION:Caldwell\, TX\, Caldwell\, United States
CATEGORIES:Artisan,Festival,Markets,Pop Up Shop
ATTACH;FMTTYPE=image/png:https://bayoubeaux.com/wp-content/uploads/2024/09/334147655_925369638500585_4865653272713659745_n.png
GEO:43.6629384;-116.6873596
END:VEVENT
END:VCALENDAR