BEGIN:VCALENDAR
VERSION:2.0
PRODID:-//Bayou Beaux - ECPv6.15.20//NONSGML v1.0//EN
CALSCALE:GREGORIAN
METHOD:PUBLISH
X-ORIGINAL-URL:https://bayoubeaux.com
X-WR-CALDESC:Events for Bayou Beaux
REFRESH-INTERVAL;VALUE=DURATION:PT1H
X-Robots-Tag:noindex
X-PUBLISHED-TTL:PT1H
BEGIN:VTIMEZONE
TZID:UTC
BEGIN:STANDARD
TZOFFSETFROM:+0000
TZOFFSETTO:+0000
TZNAME:UTC
DTSTART:20240101T000000
END:STANDARD
END:VTIMEZONE
BEGIN:VEVENT
DTSTART;TZID=UTC:20250406T110000
DTEND;TZID=UTC:20250406T150000
DTSTAMP:20260422T082321
CREATED:20250304T065458Z
LAST-MODIFIED:20250304T065458Z
UID:5104-1743937200-1743951600@bayoubeaux.com
SUMMARY:New Caney Community Market
DESCRIPTION:Please come check out our Creole Seasonings\, BBQ Sauces\, Rubs\, and Creole Tings!. Come and enjoy the Louisiana Creole Experience!
URL:https://bayoubeaux.com/event/new-caney-community-market-28/
LOCATION:New Caney Community Market\, 21568 1/2 Market Pl Dr\,\, New Caney\, 77357
CATEGORIES:Artisan,Farmers Market,Markets,Pop Up Shop
ATTACH;FMTTYPE=image/jpeg:https://bayoubeaux.com/wp-content/uploads/2022/06/New-Caney-Community-Market.jpg
GEO:30.1348351;-95.2290399
X-APPLE-STRUCTURED-LOCATION;VALUE=URI;X-ADDRESS=New Caney Community Market 21568 1/2 Market Pl Dr New Caney 77357;X-APPLE-RADIUS=500;X-TITLE=21568 1/2 Market Pl Dr\,:geo:-95.2290399,30.1348351
END:VEVENT
BEGIN:VEVENT
DTSTART;TZID=UTC:20250412T090000
DTEND;TZID=UTC:20250412T150000
DTSTAMP:20260422T082321
CREATED:20250308T053030Z
LAST-MODIFIED:20250410T061844Z
UID:5117-1744448400-1744470000@bayoubeaux.com
SUMMARY:Bloom on Main Festival - Many\, LA
DESCRIPTION:We are coming home to Sabine Parish. Please come and check out our  Gourmet Creole Experience of Seasonings and Creole Tings. We will also be offering frozen Gumbo. We do accept preorders. Please visit our website. The address is 705 Main Street\, Many\, LA 71449-7755. We will be there from 9am to 3pm on each day.
URL:https://bayoubeaux.com/event/bloom-on-main-festival-many-la/
LOCATION:Many Town Square\, 705 Main Street\, Many\, LA\, 71449\, United States
CATEGORIES:Convention,Festival,Markets,Pop Up Shop
ATTACH;FMTTYPE=image/jpeg:https://bayoubeaux.com/wp-content/uploads/2025/03/Bloom-on-Main.jpg
GEO:31.5678736;-93.4838751
X-APPLE-STRUCTURED-LOCATION;VALUE=URI;X-ADDRESS=Many Town Square 705 Main Street Many LA 71449 United States;X-APPLE-RADIUS=500;X-TITLE=705 Main Street:geo:-93.4838751,31.5678736
END:VEVENT
BEGIN:VEVENT
DTSTART;TZID=UTC:20250419T100000
DTEND;TZID=UTC:20250419T140000
DTSTAMP:20260422T082321
CREATED:20250416T054927Z
LAST-MODIFIED:20250416T055025Z
UID:5111-1745056800-1745071200@bayoubeaux.com
SUMMARY:Lake Houston Farmers Market - BEL FURNITURE LOCATION
DESCRIPTION:Please come check out our Creole Seasonings\, BBQ Sauces\, Rubs\, and Creole Tings!. Come and enjoy the Louisiana Creole Experience! We will have frozen gumbo!
URL:https://bayoubeaux.com/event/lake-houston-farmers-market-bell-furniture-location/
LOCATION:Bell Furniture\, 20450 Eastex Fwy U.S. 59\, Humble\, TX\, 77338\, United States
CATEGORIES:Artisan,Brewery,Farmers Market,Markets,Pop Up Shop
ATTACH;FMTTYPE=image/jpeg:https://bayoubeaux.com/wp-content/uploads/2023/11/IMG_1362-1.jpeg
GEO:30.0994468;-95.2378913
X-APPLE-STRUCTURED-LOCATION;VALUE=URI;X-ADDRESS=Bell Furniture 20450 Eastex Fwy U.S. 59 Humble TX 77338 United States;X-APPLE-RADIUS=500;X-TITLE=20450 Eastex Fwy U.S. 59:geo:-95.2378913,30.0994468
END:VEVENT
BEGIN:VEVENT
DTSTART;TZID=UTC:20250427T110000
DTEND;TZID=UTC:20250427T150000
DTSTAMP:20260422T082321
CREATED:20250416T053938Z
LAST-MODIFIED:20250416T053938Z
UID:5118-1745751600-1745766000@bayoubeaux.com
SUMMARY:Lake Houston Farmers Market - SUNDAY MARKET
DESCRIPTION:Please come check out our Creole Seasonings\, BBQ Sauces\, Rubs\, and Creole Tings!. Come and enjoy the Louisiana Creole Experience! We will have frozen gumbo!
URL:https://bayoubeaux.com/event/lake-houston-farmers-market-sunday-market-11/
LOCATION:Walden on Lake Houston Country Club\, 18100 Walden Forest Drive\, Humble\, TX\, 77346\, United States
CATEGORIES:Artisan,Brewery,Farmers Market,Markets,Pop Up Shop
ATTACH;FMTTYPE=image/jpeg:https://bayoubeaux.com/wp-content/uploads/2023/11/IMG_1362-1.jpeg
GEO:29.9914037;-95.147428
X-APPLE-STRUCTURED-LOCATION;VALUE=URI;X-ADDRESS=Walden on Lake Houston Country Club 18100 Walden Forest Drive Humble TX 77346 United States;X-APPLE-RADIUS=500;X-TITLE=18100 Walden Forest Drive:geo:-95.147428,29.9914037
END:VEVENT
END:VCALENDAR