BEGIN:VCALENDAR
VERSION:2.0
PRODID:-//Bayou Beaux - ECPv6.15.20//NONSGML v1.0//EN
CALSCALE:GREGORIAN
METHOD:PUBLISH
X-ORIGINAL-URL:https://bayoubeaux.com
X-WR-CALDESC:Events for Bayou Beaux
REFRESH-INTERVAL;VALUE=DURATION:PT1H
X-Robots-Tag:noindex
X-PUBLISHED-TTL:PT1H
BEGIN:VTIMEZONE
TZID:UTC
BEGIN:STANDARD
TZOFFSETFROM:+0000
TZOFFSETTO:+0000
TZNAME:UTC
DTSTART:20240101T000000
END:STANDARD
END:VTIMEZONE
BEGIN:VEVENT
DTSTART;TZID=UTC:20250803T110000
DTEND;TZID=UTC:20250803T150000
DTSTAMP:20260422T013059
CREATED:20250807T050104Z
LAST-MODIFIED:20250807T050156Z
UID:5179-1754218800-1754233200@bayoubeaux.com
SUMMARY:New Caney Community Market
DESCRIPTION:Please come check out our Creole Seasonings\, BBQ Sauces\, Rubs\, and Creole Tings!. Come and enjoy the Louisiana Creole Experience!
URL:https://bayoubeaux.com/event/new-caney-community-market-33/
LOCATION:New Caney Community Market\, 21568 1/2 Market Pl Dr\,\, New Caney\, 77357
CATEGORIES:Artisan,Farmers Market,Markets,Pop Up Shop
ATTACH;FMTTYPE=image/jpeg:https://bayoubeaux.com/wp-content/uploads/2022/06/New-Caney-Community-Market.jpg
GEO:30.1348351;-95.2290399
X-APPLE-STRUCTURED-LOCATION;VALUE=URI;X-ADDRESS=New Caney Community Market 21568 1/2 Market Pl Dr New Caney 77357;X-APPLE-RADIUS=500;X-TITLE=21568 1/2 Market Pl Dr\,:geo:-95.2290399,30.1348351
END:VEVENT
BEGIN:VEVENT
DTSTART;TZID=UTC:20250810T110000
DTEND;TZID=UTC:20250810T150000
DTSTAMP:20260422T013059
CREATED:20250807T042240Z
LAST-MODIFIED:20250807T042240Z
UID:5180-1754823600-1754838000@bayoubeaux.com
SUMMARY:Lake Houston Farmers Market - SUNDAY MARKET
DESCRIPTION:Please come check out our Creole Seasonings\, BBQ Sauces\, Rubs\, and Creole Tings!. Come and enjoy the Louisiana Creole Experience! We will have frozen gumbo!
URL:https://bayoubeaux.com/event/lake-houston-farmers-market-sunday-market-12/
LOCATION:Walden on Lake Houston Country Club\, 18100 Walden Forest Drive\, Humble\, TX\, 77346\, United States
CATEGORIES:Artisan,Brewery,Farmers Market,Markets,Pop Up Shop
ATTACH;FMTTYPE=image/jpeg:https://bayoubeaux.com/wp-content/uploads/2023/11/IMG_1362-1.jpeg
GEO:29.9914037;-95.147428
X-APPLE-STRUCTURED-LOCATION;VALUE=URI;X-ADDRESS=Walden on Lake Houston Country Club 18100 Walden Forest Drive Humble TX 77346 United States;X-APPLE-RADIUS=500;X-TITLE=18100 Walden Forest Drive:geo:-95.147428,29.9914037
END:VEVENT
BEGIN:VEVENT
DTSTART;TZID=UTC:20250830T080000
DTEND;TZID=UTC:20250830T160000
DTSTAMP:20260422T013059
CREATED:20241028T035953Z
LAST-MODIFIED:20241028T041727Z
UID:5030-1756540800-1756569600@bayoubeaux.com
SUMMARY:Hamilton TX Dove Festival
DESCRIPTION:Check out our Creole Seasonings\, BBQ Sauces\, Rubs\, and Creole Tings!. Come and enjoy the Louisiana Creole Experience.
URL:https://bayoubeaux.com/event/hamilton-tx-dove-festival-2/
LOCATION:Dove Festival\, 108 N. Bell Street\, Hamilton\, TX\, 76531\, United States
CATEGORIES:Artisan,Festival,Pop Up Shop
ATTACH;FMTTYPE=image/png:https://bayoubeaux.com/wp-content/uploads/2022/08/Dove.png
GEO:31.7058425;-98.1222538
X-APPLE-STRUCTURED-LOCATION;VALUE=URI;X-ADDRESS=Dove Festival 108 N. Bell Street Hamilton TX 76531 United States;X-APPLE-RADIUS=500;X-TITLE=108 N. Bell Street:geo:-98.1222538,31.7058425
END:VEVENT
END:VCALENDAR