BEGIN:VCALENDAR
VERSION:2.0
PRODID:-//Bayou Beaux - ECPv6.15.20//NONSGML v1.0//EN
CALSCALE:GREGORIAN
METHOD:PUBLISH
X-ORIGINAL-URL:https://bayoubeaux.com
X-WR-CALDESC:Events for Bayou Beaux
REFRESH-INTERVAL;VALUE=DURATION:PT1H
X-Robots-Tag:noindex
X-PUBLISHED-TTL:PT1H
BEGIN:VTIMEZONE
TZID:UTC
BEGIN:STANDARD
TZOFFSETFROM:+0000
TZOFFSETTO:+0000
TZNAME:UTC
DTSTART:20250101T000000
END:STANDARD
END:VTIMEZONE
BEGIN:VEVENT
DTSTART;TZID=UTC:20260201T110000
DTEND;TZID=UTC:20260201T150000
DTSTAMP:20260421T155005
CREATED:20260125T013618Z
LAST-MODIFIED:20260125T013618Z
UID:5274-1769943600-1769958000@bayoubeaux.com
SUMMARY:New Caney Community Market
DESCRIPTION:Please come check out our Creole Seasonings\, BBQ Sauces\, Rubs\, and Creole Tings!. Come and enjoy the Louisiana Creole Experience!
URL:https://bayoubeaux.com/event/new-caney-community-market-37/2026-02-01/
LOCATION:New Caney Community Market\, 21568 1/2 Market Pl Dr\,\, New Caney\, 77357
CATEGORIES:Artisan,Farmers Market,Markets,Pop Up Shop
ATTACH;FMTTYPE=image/jpeg:https://bayoubeaux.com/wp-content/uploads/2022/06/New-Caney-Community-Market.jpg
GEO:30.1348351;-95.2290399
X-APPLE-STRUCTURED-LOCATION;VALUE=URI;X-ADDRESS=New Caney Community Market 21568 1/2 Market Pl Dr New Caney 77357;X-APPLE-RADIUS=500;X-TITLE=21568 1/2 Market Pl Dr\,:geo:-95.2290399,30.1348351
END:VEVENT
BEGIN:VEVENT
DTSTART;TZID=UTC:20260207T110000
DTEND;TZID=UTC:20260207T150000
DTSTAMP:20260421T155005
CREATED:20260125T040244Z
LAST-MODIFIED:20260125T040244Z
UID:5285-1770462000-1770476400@bayoubeaux.com
SUMMARY:In A Pickle Co. - Old Town Spring
DESCRIPTION:We will have a Tasting of our Infamous Creole Dill Pickle Seasoned Potato Salad and the DRIP. \n 
URL:https://bayoubeaux.com/event/in-a-pickle-co-old-town-spring-4/
LOCATION:In A Pickle Co\, 419 Gentry Street\, Suite 105\, Spring\, TX\, 77373\, United States
CATEGORIES:Artisan,Markets,Pop Up Shop
ATTACH;FMTTYPE=image/jpeg:https://bayoubeaux.com/wp-content/uploads/2025/11/In-A-Pickle-Co.jpg
GEO:30.0783947;-95.4211607
X-APPLE-STRUCTURED-LOCATION;VALUE=URI;X-ADDRESS=In A Pickle Co 419 Gentry Street Suite 105 Spring TX 77373 United States;X-APPLE-RADIUS=500;X-TITLE=419 Gentry Street\, Suite 105:geo:-95.4211607,30.0783947
END:VEVENT
BEGIN:VEVENT
DTSTART;TZID=UTC:20260208T110000
DTEND;TZID=UTC:20260208T150000
DTSTAMP:20260421T155005
CREATED:20260125T041626Z
LAST-MODIFIED:20260125T043439Z
UID:5309-1770548400-1770562800@bayoubeaux.com
SUMMARY:Lake Houston Farmers Market - SUNDAY MARKET
DESCRIPTION:Please come check out our Gourmet and Premium Creole Seasonings\, BBQ Sauces\, Rubs\, and Creole Tings!. Come and enjoy the Louisiana Creole Experience! We will have frozen gumbo!
URL:https://bayoubeaux.com/event/lake-houston-farmers-market-sunday-market-16-2026-03-08/
LOCATION:Walden on Lake Houston Country Club\, 18100 Walden Forest Drive\, Humble\, TX\, 77346\, United States
CATEGORIES:Artisan,Farmers Market,Markets,Pop Up Shop
ATTACH;FMTTYPE=image/jpeg:https://bayoubeaux.com/wp-content/uploads/2023/02/Lake-Houston-Farmers-Market.jpg
GEO:29.9914037;-95.147428
X-APPLE-STRUCTURED-LOCATION;VALUE=URI;X-ADDRESS=Walden on Lake Houston Country Club 18100 Walden Forest Drive Humble TX 77346 United States;X-APPLE-RADIUS=500;X-TITLE=18100 Walden Forest Drive:geo:-95.147428,29.9914037
END:VEVENT
BEGIN:VEVENT
DTSTART;TZID=UTC:20260214T090000
DTEND;TZID=UTC:20260214T160000
DTSTAMP:20260421T155005
CREATED:20260125T015820Z
LAST-MODIFIED:20260125T015820Z
UID:5286-1771059600-1771084800@bayoubeaux.com
SUMMARY:Lovelady Lovefest
DESCRIPTION:For the first time\, we are coming to Lovelady\, TX.  Trinity River Valley\, look out because Gumbeaux Mayne will be there delivering our Gourmet Creole Experience of Seasonings and Creole Tings. \n 
URL:https://bayoubeaux.com/event/lovelady-lovefest/
LOCATION:Lovelady Community Park\, 120 East Cox Street\, Lovelady\, TX\, 75851\, United States
CATEGORIES:Artisan,Farmers Market,Festival,Markets
ATTACH;FMTTYPE=image/jpeg:https://bayoubeaux.com/wp-content/uploads/2026/01/Lovelady-lovefest.jpg
GEO:31.124801;-95.4449355
X-APPLE-STRUCTURED-LOCATION;VALUE=URI;X-ADDRESS=Lovelady Community Park 120 East Cox Street Lovelady TX 75851 United States;X-APPLE-RADIUS=500;X-TITLE=120 East Cox Street:geo:-95.4449355,31.124801
END:VEVENT
BEGIN:VEVENT
DTSTART;TZID=UTC:20260221T100000
DTEND;TZID=UTC:20260221T140000
DTSTAMP:20260421T155005
CREATED:20260125T041907Z
LAST-MODIFIED:20260125T041907Z
UID:5312-1771668000-1771682400@bayoubeaux.com
SUMMARY:Lake Houston Farmers Market - BEL FURNITURE LOCATION
DESCRIPTION:Please come check out our Creole Seasonings\, BBQ Sauces\, Rubs\, and Creole Tings!. Come and enjoy the Louisiana Creole Experience! We will have frozen gumbo!
URL:https://bayoubeaux.com/event/lake-houston-farmers-market-bel-furniture-location-5/
LOCATION:Bell Furniture\, 20450 Eastex Fwy U.S. 59\, Humble\, TX\, 77338\, United States
CATEGORIES:Artisan,Farmers Market,Markets,Pop Up Shop
ATTACH;FMTTYPE=image/jpeg:https://bayoubeaux.com/wp-content/uploads/2023/02/Lake-Houston-Farmers-Market.jpg
GEO:30.0994468;-95.2378913
X-APPLE-STRUCTURED-LOCATION;VALUE=URI;X-ADDRESS=Bell Furniture 20450 Eastex Fwy U.S. 59 Humble TX 77338 United States;X-APPLE-RADIUS=500;X-TITLE=20450 Eastex Fwy U.S. 59:geo:-95.2378913,30.0994468
END:VEVENT
BEGIN:VEVENT
DTSTART;TZID=UTC:20260222T110000
DTEND;TZID=UTC:20260222T150000
DTSTAMP:20260421T155005
CREATED:20260125T041626Z
LAST-MODIFIED:20260125T043327Z
UID:5308-1771758000-1771772400@bayoubeaux.com
SUMMARY:Lake Houston Farmers Market - SUNDAY MARKET
DESCRIPTION:Please come check out our Gourmet and Premium Creole Seasonings\, BBQ Sauces\, Rubs\, and Creole Tings!. Come and enjoy the Louisiana Creole Experience! We will have frozen gumbo!
URL:https://bayoubeaux.com/event/lake-houston-farmers-market-sunday-market-16-2026-02-08/
LOCATION:Walden on Lake Houston Country Club\, 18100 Walden Forest Drive\, Humble\, TX\, 77346\, United States
CATEGORIES:Artisan,Farmers Market,Markets,Pop Up Shop
ATTACH;FMTTYPE=image/jpeg:https://bayoubeaux.com/wp-content/uploads/2023/02/Lake-Houston-Farmers-Market.jpg
GEO:29.9914037;-95.147428
X-APPLE-STRUCTURED-LOCATION;VALUE=URI;X-ADDRESS=Walden on Lake Houston Country Club 18100 Walden Forest Drive Humble TX 77346 United States;X-APPLE-RADIUS=500;X-TITLE=18100 Walden Forest Drive:geo:-95.147428,29.9914037
END:VEVENT
END:VCALENDAR