BEGIN:VCALENDAR
VERSION:2.0
PRODID:-//Bayou Beaux - ECPv6.15.20//NONSGML v1.0//EN
CALSCALE:GREGORIAN
METHOD:PUBLISH
X-ORIGINAL-URL:https://bayoubeaux.com
X-WR-CALDESC:Events for Bayou Beaux
REFRESH-INTERVAL;VALUE=DURATION:PT1H
X-Robots-Tag:noindex
X-PUBLISHED-TTL:PT1H
BEGIN:VTIMEZONE
TZID:UTC
BEGIN:STANDARD
TZOFFSETFROM:+0000
TZOFFSETTO:+0000
TZNAME:UTC
DTSTART:20250101T000000
END:STANDARD
END:VTIMEZONE
BEGIN:VEVENT
DTSTART;TZID=UTC:20261204T170000
DTEND;TZID=UTC:20261204T200000
DTSTAMP:20260422T013057
CREATED:20260125T064149Z
LAST-MODIFIED:20260125T064149Z
UID:5210-1796403600-1796414400@bayoubeaux.com
SUMMARY:Spring Trails Winter Festival
DESCRIPTION:Gumbeaux Mayne will be bringing the Holiday Spirit to Spring Trails with our Creole Seasonings and Creole Tings. \n 
URL:https://bayoubeaux.com/event/spring-trails-winter-festival-2/
LOCATION:Spring Trails Community Center\, 2026 Spring Trails Bend\, Spring\, TX\, 77386\, United States
CATEGORIES:Artisan,Farmers Market,Festival,Markets,Pop Up Shop
ATTACH;FMTTYPE=image/jpeg:https://bayoubeaux.com/wp-content/uploads/2023/11/IMG_1677-scaled.jpg
GEO:30.1008839;-95.3936864
X-APPLE-STRUCTURED-LOCATION;VALUE=URI;X-ADDRESS=Spring Trails Community Center 2026 Spring Trails Bend Spring TX 77386 United States;X-APPLE-RADIUS=500;X-TITLE=2026 Spring Trails Bend:geo:-95.3936864,30.1008839
END:VEVENT
END:VCALENDAR