BEGIN:VCALENDAR
VERSION:2.0
PRODID:-//Bayou Beaux - ECPv6.15.20//NONSGML v1.0//EN
CALSCALE:GREGORIAN
METHOD:PUBLISH
X-WR-CALNAME:Bayou Beaux
X-ORIGINAL-URL:https://bayoubeaux.com
X-WR-CALDESC:Events for Bayou Beaux
REFRESH-INTERVAL;VALUE=DURATION:PT1H
X-Robots-Tag:noindex
X-PUBLISHED-TTL:PT1H
BEGIN:VTIMEZONE
TZID:UTC
BEGIN:STANDARD
TZOFFSETFROM:+0000
TZOFFSETTO:+0000
TZNAME:UTC
DTSTART:20240101T000000
END:STANDARD
END:VTIMEZONE
BEGIN:VEVENT
DTSTART;VALUE=DATE:20251010
DTEND;VALUE=DATE:20251012
DTSTAMP:20260421T234029
CREATED:20241028T034844Z
LAST-MODIFIED:20241028T034844Z
UID:5023-1760054400-1760227199@bayoubeaux.com
SUMMARY:Zwolle Tamale Fiesta
DESCRIPTION:Please come check out our Creole Seasonings\, BBQ Sauces\, Rubs\, and Creole Tings!. Come and enjoy the Zwolle Tamale Fiesta! \n \n  \n 
URL:https://bayoubeaux.com/event/zwolle-tamale-fiesta-3/
LOCATION:Fiesta Grounds\, 1100 South Main Street\, Zwolle\, LA\, 71486\, United States
CATEGORIES:Artisan,Festival,Pop Up Shop
ATTACH;FMTTYPE=image/jpeg:https://bayoubeaux.com/wp-content/uploads/2022/09/tamale-festival.jpg
GEO:31.6304314;-93.639777
X-APPLE-STRUCTURED-LOCATION;VALUE=URI;X-ADDRESS=Fiesta Grounds 1100 South Main Street Zwolle LA 71486 United States;X-APPLE-RADIUS=500;X-TITLE=1100 South Main Street:geo:-93.639777,31.6304314
END:VEVENT
END:VCALENDAR