BEGIN:VCALENDAR
VERSION:2.0
PRODID:-//Bayou Beaux - ECPv6.15.20//NONSGML v1.0//EN
CALSCALE:GREGORIAN
METHOD:PUBLISH
X-ORIGINAL-URL:https://bayoubeaux.com
X-WR-CALDESC:Events for Bayou Beaux
REFRESH-INTERVAL;VALUE=DURATION:PT1H
X-Robots-Tag:noindex
X-PUBLISHED-TTL:PT1H
BEGIN:VTIMEZONE
TZID:UTC
BEGIN:STANDARD
TZOFFSETFROM:+0000
TZOFFSETTO:+0000
TZNAME:UTC
DTSTART:20240101T000000
END:STANDARD
END:VTIMEZONE
BEGIN:VEVENT
DTSTART;TZID=UTC:20251108T100000
DTEND;TZID=UTC:20251108T160000
DTSTAMP:20260421T220938
CREATED:20251107T085300Z
LAST-MODIFIED:20251107T085300Z
UID:5226-1762596000-1762617600@bayoubeaux.com
SUMMARY:Kingwood Xmas Extravaganza
DESCRIPTION:We are kicking off the Holiday shopping at the Clubs of Kinwood. \n 
URL:https://bayoubeaux.com/event/kingwood-xmas-extravaganza-2/
LOCATION:The Clubs of Kingwood\, 1700 Lake Kingwood Trail\, Kingwood\, TX\, 77339\, United States
CATEGORIES:Artisan,Markets,Pop Up Shop
ATTACH;FMTTYPE=image/jpeg:https://bayoubeaux.com/wp-content/uploads/2025/11/Holiday-Vendor-Market-002-scaled.jpg
GEO:30.0399142;-95.1965339
X-APPLE-STRUCTURED-LOCATION;VALUE=URI;X-ADDRESS=The Clubs of Kingwood 1700 Lake Kingwood Trail Kingwood TX 77339 United States;X-APPLE-RADIUS=500;X-TITLE=1700 Lake Kingwood Trail:geo:-95.1965339,30.0399142
END:VEVENT
END:VCALENDAR