BEGIN:VCALENDAR
VERSION:2.0
PRODID:-//Bayou Beaux - ECPv6.15.20//NONSGML v1.0//EN
CALSCALE:GREGORIAN
METHOD:PUBLISH
X-ORIGINAL-URL:https://bayoubeaux.com
X-WR-CALDESC:Events for Bayou Beaux
REFRESH-INTERVAL;VALUE=DURATION:PT1H
X-Robots-Tag:noindex
X-PUBLISHED-TTL:PT1H
BEGIN:VTIMEZONE
TZID:UTC
BEGIN:STANDARD
TZOFFSETFROM:+0000
TZOFFSETTO:+0000
TZNAME:UTC
DTSTART:20240101T000000
END:STANDARD
END:VTIMEZONE
BEGIN:VEVENT
DTSTART;TZID=UTC:20251130T110000
DTEND;TZID=UTC:20251130T150000
DTSTAMP:20260421T221244
CREATED:20251126T035720Z
LAST-MODIFIED:20251126T035720Z
UID:5244-1764500400-1764514800@bayoubeaux.com
SUMMARY:In A Pickle Co. - Old Town Spring
DESCRIPTION:We will have a Tasting of our Infamous Creole Dill Pickle Seasoned Potato Salad and the DRIP. \n 
URL:https://bayoubeaux.com/event/in-a-pickle-co-old-town-spring-3/
LOCATION:In A Pickle Co\, 419 Gentry Street\, Suite 105\, Spring\, TX\, 77373\, United States
CATEGORIES:Artisan,Markets,Pop Up Shop
ATTACH;FMTTYPE=image/jpeg:https://bayoubeaux.com/wp-content/uploads/2025/11/In-A-Pickle-Co.jpg
GEO:30.0783947;-95.4211607
X-APPLE-STRUCTURED-LOCATION;VALUE=URI;X-ADDRESS=In A Pickle Co 419 Gentry Street Suite 105 Spring TX 77373 United States;X-APPLE-RADIUS=500;X-TITLE=419 Gentry Street\, Suite 105:geo:-95.4211607,30.0783947
END:VEVENT
END:VCALENDAR