BEGIN:VCALENDAR
VERSION:2.0
PRODID:-//Bayou Beaux - ECPv6.15.20//NONSGML v1.0//EN
CALSCALE:GREGORIAN
METHOD:PUBLISH
X-ORIGINAL-URL:https://bayoubeaux.com
X-WR-CALDESC:Events for Bayou Beaux
REFRESH-INTERVAL;VALUE=DURATION:PT1H
X-Robots-Tag:noindex
X-PUBLISHED-TTL:PT1H
BEGIN:VTIMEZONE
TZID:UTC
BEGIN:STANDARD
TZOFFSETFROM:+0000
TZOFFSETTO:+0000
TZNAME:UTC
DTSTART:20250101T000000
END:STANDARD
END:VTIMEZONE
BEGIN:VEVENT
DTSTART;TZID=UTC:20260215T110000
DTEND;TZID=UTC:20260215T170000
DTSTAMP:20260421T164127
CREATED:20260125T020357Z
LAST-MODIFIED:20260125T020357Z
UID:5289-1771153200-1771174800@bayoubeaux.com
SUMMARY:Kingwood Mardi Gras Festival
DESCRIPTION:Bayou Beaux Beez Pop Up Shot at Mardi Gras Festival\, Kingwood\, TX.   Check out our Creole Seasonings\, BBQ Sauces\, Rubs\, Fish Fry\, Chicken Fry\, Gumbeaux Roux\, and Frozen Gumbo.  WE will also be in the Gumbo Cookoff.
URL:https://bayoubeaux.com/event/kingwood-mardi-gras-festival-3/
LOCATION:Kingwood Town Center Park\, 8 North Main Street\, Kingwood\, TX\, 77339\, United States
CATEGORIES:Festival,Markets,Pop Up Shop
ATTACH;FMTTYPE=image/jpeg:https://bayoubeaux.com/wp-content/uploads/2026/01/Kingwood-Mardi-Gras-Festival.jpg
GEO:30.0478971;-95.1848106
X-APPLE-STRUCTURED-LOCATION;VALUE=URI;X-ADDRESS=Kingwood Town Center Park 8 North Main Street Kingwood TX 77339 United States;X-APPLE-RADIUS=500;X-TITLE=8 North Main Street:geo:-95.1848106,30.0478971
END:VEVENT
END:VCALENDAR