BEGIN:VCALENDAR
VERSION:2.0
PRODID:-//Bayou Beaux - ECPv6.15.20//NONSGML v1.0//EN
CALSCALE:GREGORIAN
METHOD:PUBLISH
X-ORIGINAL-URL:https://bayoubeaux.com
X-WR-CALDESC:Events for Bayou Beaux
REFRESH-INTERVAL;VALUE=DURATION:PT1H
X-Robots-Tag:noindex
X-PUBLISHED-TTL:PT1H
BEGIN:VTIMEZONE
TZID:UTC
BEGIN:STANDARD
TZOFFSETFROM:+0000
TZOFFSETTO:+0000
TZNAME:UTC
DTSTART:20250101T000000
END:STANDARD
END:VTIMEZONE
BEGIN:VEVENT
DTSTART;TZID=UTC:20260410T170000
DTEND;TZID=UTC:20260410T210000
DTSTAMP:20260421T180248
CREATED:20260326T034711Z
LAST-MODIFIED:20260326T034711Z
UID:5356-1775840400-1775854800@bayoubeaux.com
SUMMARY:Kaufman Elementary Spring Carnival
DESCRIPTION:Please come check out our Creole Seasonings\, BBQ Sauces\, Rubs\, and Creole Tings!. Come and enjoy the Louisiana Creole Experience!
URL:https://bayoubeaux.com/event/kaufman-elementary-spring-carnival/
LOCATION:Kaufman Elementary School\, 2760 Northridge Forest Drive\, Spring\, TX\, 77386\, United States
CATEGORIES:Artisan,Farmers Market,Markets,Pop Up Shop
ATTACH;FMTTYPE=image/jpeg:https://bayoubeaux.com/wp-content/uploads/2026/03/kaufman-save-the-date-soring-carnival.jpg
GEO:30.1444924;-95.3988635
X-APPLE-STRUCTURED-LOCATION;VALUE=URI;X-ADDRESS=Kaufman Elementary School 2760 Northridge Forest Drive Spring TX 77386 United States;X-APPLE-RADIUS=500;X-TITLE=2760 Northridge Forest Drive:geo:-95.3988635,30.1444924
END:VEVENT
END:VCALENDAR