BEGIN:VCALENDAR
VERSION:2.0
PRODID:-//Bayou Beaux - ECPv6.15.20//NONSGML v1.0//EN
CALSCALE:GREGORIAN
METHOD:PUBLISH
X-ORIGINAL-URL:https://bayoubeaux.com
X-WR-CALDESC:Events for Bayou Beaux
REFRESH-INTERVAL;VALUE=DURATION:PT1H
X-Robots-Tag:noindex
X-PUBLISHED-TTL:PT1H
BEGIN:VTIMEZONE
TZID:UTC
BEGIN:STANDARD
TZOFFSETFROM:+0000
TZOFFSETTO:+0000
TZNAME:UTC
DTSTART:20240101T000000
END:STANDARD
END:VTIMEZONE
BEGIN:VEVENT
DTSTART;TZID=UTC:20250906T110000
DTEND;TZID=UTC:20250907T170000
DTSTAMP:20260421T234029
CREATED:20241028T035815Z
LAST-MODIFIED:20250714T205451Z
UID:5029-1757156400-1757264400@bayoubeaux.com
SUMMARY:In A Pickle Festival - Kingwood\, TX
DESCRIPTION:Check out our Creole Seasonings\, BBQ Sauces\, Rubs\, and Creole Tings!. Come and enjoy the Louisiana Creole Experience. \nWe will be showcasing our Creole Dill Pickle Seasoning \n 
URL:https://bayoubeaux.com/event/in-a-pickle-festival-kingwood-tx-3/
LOCATION:The Pickle Festival\, 8 N Main Street\, Kingwood\, TX\, 77339\, United States
CATEGORIES:Artisan,Festival,Markets,Pop Up Shop
ATTACH;FMTTYPE=image/jpeg:https://bayoubeaux.com/wp-content/uploads/2023/11/IMG_1332.jpeg
GEO:30.0474357;-95.1850849
X-APPLE-STRUCTURED-LOCATION;VALUE=URI;X-ADDRESS=The Pickle Festival 8 N Main Street Kingwood TX 77339 United States;X-APPLE-RADIUS=500;X-TITLE=8 N Main Street:geo:-95.1850849,30.0474357
END:VEVENT
END:VCALENDAR