BEGIN:VCALENDAR
VERSION:2.0
PRODID:-//Bayou Beaux - ECPv6.15.20//NONSGML v1.0//EN
CALSCALE:GREGORIAN
METHOD:PUBLISH
X-ORIGINAL-URL:https://bayoubeaux.com
X-WR-CALDESC:Events for Bayou Beaux
REFRESH-INTERVAL;VALUE=DURATION:PT1H
X-Robots-Tag:noindex
X-PUBLISHED-TTL:PT1H
BEGIN:VTIMEZONE
TZID:UTC
BEGIN:STANDARD
TZOFFSETFROM:+0000
TZOFFSETTO:+0000
TZNAME:UTC
DTSTART:20250101T000000
END:STANDARD
END:VTIMEZONE
BEGIN:VEVENT
DTSTART;TZID=UTC:20260905T080000
DTEND;TZID=UTC:20260905T160000
DTSTAMP:20260421T112633
CREATED:20260125T063623Z
LAST-MODIFIED:20260125T063623Z
UID:5333-1788595200-1788624000@bayoubeaux.com
SUMMARY:Hamilton TX Dove Festival
DESCRIPTION:Check out our Creole Seasonings\, BBQ Sauces\, Rubs\, and Creole Tings!. Come and enjoy the Louisiana Creole Experience.
URL:https://bayoubeaux.com/event/hamilton-tx-dove-festival-3/
LOCATION:Dove Festival\, 108 N. Bell Street\, Hamilton\, TX\, 76531\, United States
CATEGORIES:Artisan,Festival,Markets,Pop Up Shop
ATTACH;FMTTYPE=image/png:https://bayoubeaux.com/wp-content/uploads/2022/08/Dove.png
GEO:31.7058425;-98.1222538
X-APPLE-STRUCTURED-LOCATION;VALUE=URI;X-ADDRESS=Dove Festival 108 N. Bell Street Hamilton TX 76531 United States;X-APPLE-RADIUS=500;X-TITLE=108 N. Bell Street:geo:-98.1222538,31.7058425
END:VEVENT
BEGIN:VEVENT
DTSTART;VALUE=DATE:20261009
DTEND;VALUE=DATE:20261011
DTSTAMP:20260421T112633
CREATED:20260125T062421Z
LAST-MODIFIED:20260125T062442Z
UID:5328-1791504000-1791676799@bayoubeaux.com
SUMMARY:Zwolle Tamale Fiesta
DESCRIPTION:Please come check out our Creole Seasonings\, BBQ Sauces\, Rubs\, and Creole Tings!. Come and enjoy the Zwolle Tamale Fiesta! \n \n  \n 
URL:https://bayoubeaux.com/event/zwolle-tamale-fiesta-4/
LOCATION:Fiesta Grounds\, 1100 South Main Street\, Zwolle\, LA\, 71486\, United States
CATEGORIES:Artisan,Festival,Pop Up Shop
ATTACH;FMTTYPE=image/jpeg:https://bayoubeaux.com/wp-content/uploads/2022/09/tamale-festival.jpg
GEO:31.6304314;-93.639777
X-APPLE-STRUCTURED-LOCATION;VALUE=URI;X-ADDRESS=Fiesta Grounds 1100 South Main Street Zwolle LA 71486 United States;X-APPLE-RADIUS=500;X-TITLE=1100 South Main Street:geo:-93.639777,31.6304314
END:VEVENT
END:VCALENDAR