BEGIN:VCALENDAR
VERSION:2.0
PRODID:-//Bayou Beaux - ECPv6.15.20//NONSGML v1.0//EN
CALSCALE:GREGORIAN
METHOD:PUBLISH
X-WR-CALNAME:Bayou Beaux
X-ORIGINAL-URL:https://bayoubeaux.com
X-WR-CALDESC:Events for Bayou Beaux
REFRESH-INTERVAL;VALUE=DURATION:PT1H
X-Robots-Tag:noindex
X-PUBLISHED-TTL:PT1H
BEGIN:VTIMEZONE
TZID:UTC
BEGIN:STANDARD
TZOFFSETFROM:+0000
TZOFFSETTO:+0000
TZNAME:UTC
DTSTART:20250101T000000
END:STANDARD
END:VTIMEZONE
BEGIN:VEVENT
DTSTART;TZID=UTC:20260108T140000
DTEND;TZID=UTC:20260108T180000
DTSTAMP:20260421T214634
CREATED:20260108T002042Z
LAST-MODIFIED:20260108T002042Z
UID:5268-1767880800-1767895200@bayoubeaux.com
SUMMARY:Kingwood Farmers Market
DESCRIPTION:Please come check out our Gourmet and Premium Experience of Creole Seasonings\, BBQ Sauces\, Rubs\, and Creole Tings!. Come and enjoy some of our Samples!
URL:https://bayoubeaux.com/event/kingwood-farmers-market/
LOCATION:Kingwood Town Center Park\, 8 North Main Street\, Kingwood\, TX\, 77339\, United States
CATEGORIES:Artisan,Farmers Market,Markets,Pop Up Shop
ATTACH;FMTTYPE=image/svg+xml:https://bayoubeaux.com/wp-content/uploads/2022/01/Kingwood-Farmers-Market-pic.svg
GEO:30.0478971;-95.1848106
X-APPLE-STRUCTURED-LOCATION;VALUE=URI;X-ADDRESS=Kingwood Town Center Park 8 North Main Street Kingwood TX 77339 United States;X-APPLE-RADIUS=500;X-TITLE=8 North Main Street:geo:-95.1848106,30.0478971
END:VEVENT
END:VCALENDAR