BEGIN:VCALENDAR
VERSION:2.0
PRODID:-//Bayou Beaux - ECPv6.15.20//NONSGML v1.0//EN
CALSCALE:GREGORIAN
METHOD:PUBLISH
X-ORIGINAL-URL:https://bayoubeaux.com
X-WR-CALDESC:Events for Bayou Beaux
REFRESH-INTERVAL;VALUE=DURATION:PT1H
X-Robots-Tag:noindex
X-PUBLISHED-TTL:PT1H
BEGIN:VTIMEZONE
TZID:UTC
BEGIN:STANDARD
TZOFFSETFROM:+0000
TZOFFSETTO:+0000
TZNAME:UTC
DTSTART:20240101T000000
END:STANDARD
END:VTIMEZONE
BEGIN:VEVENT
DTSTART;TZID=UTC:20250308T090000
DTEND;TZID=UTC:20250308T130000
DTSTAMP:20260426T013217
CREATED:20250218T063851Z
LAST-MODIFIED:20250218T063851Z
UID:5091-1741424400-1741438800@bayoubeaux.com
SUMMARY:Navasota Farmers Market
DESCRIPTION:Please come check out our Creole Seasonings\, BBQ Sauces\, Rubs\, and Creole Tings!. Come and enjoy the Louisiana Creole Experience! \n  \n 
URL:https://bayoubeaux.com/event/navasota-farmers-market-5/
LOCATION:Navasota Farmers Market\, 1411 E. Washington\, Navasota\, TX\, 77868\, United States
CATEGORIES:Artisan,Farmers Market,Markets,Pop Up Shop
ATTACH;FMTTYPE=image/jpeg:https://bayoubeaux.com/wp-content/uploads/2023/02/Navasota-Farmers-Market.jpg
GEO:30.3884227;-96.0875514
X-APPLE-STRUCTURED-LOCATION;VALUE=URI;X-ADDRESS=Navasota Farmers Market 1411 E. Washington Navasota TX 77868 United States;X-APPLE-RADIUS=500;X-TITLE=1411 E. Washington:geo:-96.0875514,30.3884227
END:VEVENT
BEGIN:VEVENT
DTSTART;TZID=UTC:20250308T140000
DTEND;TZID=UTC:20250308T180000
DTSTAMP:20260426T013217
CREATED:20250304T015315Z
LAST-MODIFIED:20250304T015858Z
UID:5099-1741442400-1741456800@bayoubeaux.com
SUMMARY:Lone Pint Brewery
DESCRIPTION:Please come check out our Creole Seasonings\, BBQ Sauces\, Rubs\, and Creole Tings!. Come and enjoy the Louisiana Creole Experience! We will also selling frozen Gumbeaux! \n \nHomemade Creole Gumbo Roux
URL:https://bayoubeaux.com/event/lone-pint-brewery/
LOCATION:Lone Pint Brewery\, 507 Commerce St.\, Magnolia\, TX\, 77355\, United States
CATEGORIES:Brewery,Farmers Market,Markets,Pop Up Shop
ATTACH;FMTTYPE=image/png:https://bayoubeaux.com/wp-content/uploads/2022/01/Lone-Pint_Logo-Min-1920w.png
GEO:30.2089736;-95.7513356
X-APPLE-STRUCTURED-LOCATION;VALUE=URI;X-ADDRESS=Lone Pint Brewery 507 Commerce St. Magnolia TX 77355 United States;X-APPLE-RADIUS=500;X-TITLE=507 Commerce St.:geo:-95.7513356,30.2089736
END:VEVENT
END:VCALENDAR