BEGIN:VCALENDAR
VERSION:2.0
PRODID:-//Bayou Beaux - ECPv6.15.20//NONSGML v1.0//EN
CALSCALE:GREGORIAN
METHOD:PUBLISH
X-ORIGINAL-URL:https://bayoubeaux.com
X-WR-CALDESC:Events for Bayou Beaux
REFRESH-INTERVAL;VALUE=DURATION:PT1H
X-Robots-Tag:noindex
X-PUBLISHED-TTL:PT1H
BEGIN:VTIMEZONE
TZID:UTC
BEGIN:STANDARD
TZOFFSETFROM:+0000
TZOFFSETTO:+0000
TZNAME:UTC
DTSTART:20240101T000000
END:STANDARD
END:VTIMEZONE
BEGIN:VEVENT
DTSTART;TZID=UTC:20250315T110000
DTEND;TZID=UTC:20250315T170000
DTSTAMP:20260426T013246
CREATED:20250304T065259Z
LAST-MODIFIED:20250308T054733Z
UID:5103-1742036400-1742058000@bayoubeaux.com
SUMMARY:In A Pickle Festival - New Braunfels\, TX
DESCRIPTION:Check out our Creole Seasonings\, BBQ Sauces\, Rubs\, and Creole Tings!. Come and enjoy the Louisiana Creole Experience. \nWe will be showcasing our Creole Dill Pickle Seasoning \n 
URL:https://bayoubeaux.com/event/in-a-pickle-festival-new-braunfels-tx/
LOCATION:Comal County Fairgrounds\, 701 Commons Street\, New Braunfels\, TX\, 78130\, United States
CATEGORIES:Artisan,Festival,Markets,Pop Up Shop
ATTACH;FMTTYPE=image/jpeg:https://bayoubeaux.com/wp-content/uploads/2025/03/IN-aPickle-New-Braunfels.jpg
GEO:29.7148946;-98.1145133
X-APPLE-STRUCTURED-LOCATION;VALUE=URI;X-ADDRESS=Comal County Fairgrounds 701 Commons Street New Braunfels TX 78130 United States;X-APPLE-RADIUS=500;X-TITLE=701 Commons Street:geo:-98.1145133,29.7148946
END:VEVENT
END:VCALENDAR