BEGIN:VCALENDAR
VERSION:2.0
PRODID:-//Bayou Beaux - ECPv6.15.20//NONSGML v1.0//EN
CALSCALE:GREGORIAN
METHOD:PUBLISH
X-ORIGINAL-URL:https://bayoubeaux.com
X-WR-CALDESC:Events for Bayou Beaux
REFRESH-INTERVAL;VALUE=DURATION:PT1H
X-Robots-Tag:noindex
X-PUBLISHED-TTL:PT1H
BEGIN:VTIMEZONE
TZID:UTC
BEGIN:STANDARD
TZOFFSETFROM:+0000
TZOFFSETTO:+0000
TZNAME:UTC
DTSTART:20240101T000000
END:STANDARD
END:VTIMEZONE
BEGIN:VEVENT
DTSTART;TZID=UTC:20250510T090000
DTEND;TZID=UTC:20250510T150000
DTSTAMP:20260425T224724
CREATED:20250505T040352Z
LAST-MODIFIED:20250505T040352Z
UID:5143-1746867600-1746889200@bayoubeaux.com
SUMMARY:Crosby Vendor Markets: Moms and Mocktails
DESCRIPTION:We are coming to Crosby\, TX in time for your Mother’s Day Gift shopping. We will be delivering our Gourmet Experience of Creole Seasonings and Tings. \n  \n 
URL:https://bayoubeaux.com/event/crosby-vendor-markets-moms-and-mocktails/
LOCATION:Crosby American Legion\, 14890 FM 2100\, Crosby\, TX\, 77532\, United States
CATEGORIES:Markets,Pop Up Shop
ATTACH;FMTTYPE=image/png:https://bayoubeaux.com/wp-content/uploads/2025/05/Screenshot-2025-05-04-225614.png
GEO:29.901951;-95.0622629
X-APPLE-STRUCTURED-LOCATION;VALUE=URI;X-ADDRESS=Crosby American Legion 14890 FM 2100 Crosby TX 77532 United States;X-APPLE-RADIUS=500;X-TITLE=14890 FM 2100:geo:-95.0622629,29.901951
END:VEVENT
END:VCALENDAR