BEGIN:VCALENDAR
VERSION:2.0
PRODID:-//Bayou Beaux - ECPv6.15.20//NONSGML v1.0//EN
CALSCALE:GREGORIAN
METHOD:PUBLISH
X-ORIGINAL-URL:https://bayoubeaux.com
X-WR-CALDESC:Events for Bayou Beaux
REFRESH-INTERVAL;VALUE=DURATION:PT1H
X-Robots-Tag:noindex
X-PUBLISHED-TTL:PT1H
BEGIN:VTIMEZONE
TZID:UTC
BEGIN:STANDARD
TZOFFSETFROM:+0000
TZOFFSETTO:+0000
TZNAME:UTC
DTSTART:20250101T000000
END:STANDARD
END:VTIMEZONE
BEGIN:VEVENT
DTSTART;TZID=UTC:20261121T100000
DTEND;TZID=UTC:20261121T160000
DTSTAMP:20260425T163745
CREATED:20260125T014702Z
LAST-MODIFIED:20260125T014702Z
UID:5287-1795255200-1795276800@bayoubeaux.com
SUMMARY:Xmas in Crockett\, TX
DESCRIPTION:For the first time\, we are coming to Crockett\, TX. East Texas\, look out because Gumbeaux Mayne will be there delivering our Creole Experience of Seasonings and Creole Tings. \n \n \nBayou Beaux Beez Holiday Gift Box
URL:https://bayoubeaux.com/event/xmas-in-crockett-tx-3/
LOCATION:Downtown Crockett\, TX\, 406 E Houston Ave\, Crockett\, 75835\, United States
CATEGORIES:Artisan,Farmers Market,Festival,Markets
ATTACH;FMTTYPE=image/jpeg:https://bayoubeaux.com/wp-content/uploads/2025/08/Bayou-Beaux-Beez-Seasonings-and-Rubs.jpg
GEO:31.3185817;-95.4576527
X-APPLE-STRUCTURED-LOCATION;VALUE=URI;X-ADDRESS=Downtown Crockett TX 406 E Houston Ave Crockett 75835 United States;X-APPLE-RADIUS=500;X-TITLE=406 E Houston Ave:geo:-95.4576527,31.3185817
END:VEVENT
END:VCALENDAR