BEGIN:VCALENDAR
VERSION:2.0
PRODID:-//Bayou Beaux - ECPv6.15.20//NONSGML v1.0//EN
CALSCALE:GREGORIAN
METHOD:PUBLISH
X-WR-CALNAME:Bayou Beaux
X-ORIGINAL-URL:https://bayoubeaux.com
X-WR-CALDESC:Events for Bayou Beaux
REFRESH-INTERVAL;VALUE=DURATION:PT1H
X-Robots-Tag:noindex
X-PUBLISHED-TTL:PT1H
BEGIN:VTIMEZONE
TZID:UTC
BEGIN:STANDARD
TZOFFSETFROM:+0000
TZOFFSETTO:+0000
TZNAME:UTC
DTSTART:20240101T000000
END:STANDARD
END:VTIMEZONE
BEGIN:VEVENT
DTSTART;TZID=UTC:20251115T100000
DTEND;TZID=UTC:20251115T140000
DTSTAMP:20260425T184612
CREATED:20251111T074941Z
LAST-MODIFIED:20251111T074941Z
UID:5230-1763200800-1763215200@bayoubeaux.com
SUMMARY:Lake Houston Farmers Market - BEL FURNITURE LOCATION
DESCRIPTION:Please come check out our Creole Seasonings\, BBQ Sauces\, Rubs\, and Creole Tings!. Come and enjoy the Louisiana Creole Experience! We will have frozen gumbo!
URL:https://bayoubeaux.com/event/lake-houston-farmers-market-bel-furniture-location-4/
LOCATION:Bell Furniture\, 20450 Eastex Fwy U.S. 59\, Humble\, TX\, 77338\, United States
CATEGORIES:Artisan,Brewery,Farmers Market,Markets,Pop Up Shop
ATTACH;FMTTYPE=image/jpeg:https://bayoubeaux.com/wp-content/uploads/2023/02/Lake-Houston-Farmers-Market.jpg
GEO:30.0994468;-95.2378913
X-APPLE-STRUCTURED-LOCATION;VALUE=URI;X-ADDRESS=Bell Furniture 20450 Eastex Fwy U.S. 59 Humble TX 77338 United States;X-APPLE-RADIUS=500;X-TITLE=20450 Eastex Fwy U.S. 59:geo:-95.2378913,30.0994468
END:VEVENT
BEGIN:VEVENT
DTSTART;TZID=UTC:20251115T160000
DTEND;TZID=UTC:20251115T180000
DTSTAMP:20260425T184612
CREATED:20251114T005204Z
LAST-MODIFIED:20251114T005204Z
UID:5237-1763222400-1763229600@bayoubeaux.com
SUMMARY:In A Pickle Co. - Old Town Spring
DESCRIPTION:We will have a Tasting of our Infamous Creole Dill Pickle Seasoned Potato Salad and the DRIP. \n 
URL:https://bayoubeaux.com/event/in-a-pickle-co-old-town-spring/
LOCATION:In A Pickle Co\, 419 Gentry Street\, Suite 105\, Spring\, TX\, 77373\, United States
CATEGORIES:Artisan,Festival,Markets,Pop Up Shop
ATTACH;FMTTYPE=image/jpeg:https://bayoubeaux.com/wp-content/uploads/2023/11/IMG_1332.jpeg
GEO:30.0783947;-95.4211607
X-APPLE-STRUCTURED-LOCATION;VALUE=URI;X-ADDRESS=In A Pickle Co 419 Gentry Street Suite 105 Spring TX 77373 United States;X-APPLE-RADIUS=500;X-TITLE=419 Gentry Street\, Suite 105:geo:-95.4211607,30.0783947
END:VEVENT
END:VCALENDAR