BEGIN:VCALENDAR
VERSION:2.0
PRODID:-//Bayou Beaux - ECPv6.15.20//NONSGML v1.0//EN
CALSCALE:GREGORIAN
METHOD:PUBLISH
X-ORIGINAL-URL:https://bayoubeaux.com
X-WR-CALDESC:Events for Bayou Beaux
REFRESH-INTERVAL;VALUE=DURATION:PT1H
X-Robots-Tag:noindex
X-PUBLISHED-TTL:PT1H
BEGIN:VTIMEZONE
TZID:UTC
BEGIN:STANDARD
TZOFFSETFROM:+0000
TZOFFSETTO:+0000
TZNAME:UTC
DTSTART:20240101T000000
END:STANDARD
END:VTIMEZONE
BEGIN:VEVENT
DTSTART;TZID=UTC:20250524T100000
DTEND;TZID=UTC:20250524T170000
DTSTAMP:20260422T153412
CREATED:20250520T210932Z
LAST-MODIFIED:20250520T210932Z
UID:5154-1748080800-1748106000@bayoubeaux.com
SUMMARY:Montgomery County Market Days
DESCRIPTION:Please come check out our Creole Seasonings\, BBQ Sauces\, Rubs\, and Creole Tings!. Come and enjoy the Louisiana Creole Experience!
URL:https://bayoubeaux.com/event/montgomery-county-market-days/
LOCATION:Bull Sallas Park\, 21681 McCleskey Road\, New Caney\, 77357\, United States
CATEGORIES:Artisan,Farmers Market,Markets,Pop Up Shop
ATTACH;FMTTYPE=image/jpeg:https://bayoubeaux.com/wp-content/uploads/2025/05/MC-Market-Days.jpg
GEO:30.1425537;-95.2419816
X-APPLE-STRUCTURED-LOCATION;VALUE=URI;X-ADDRESS=Bull Sallas Park 21681 McCleskey Road New Caney 77357 United States;X-APPLE-RADIUS=500;X-TITLE=21681 McCleskey Road:geo:-95.2419816,30.1425537
END:VEVENT
END:VCALENDAR