BEGIN:VCALENDAR
VERSION:2.0
PRODID:-//Bayou Beaux - ECPv6.15.20//NONSGML v1.0//EN
CALSCALE:GREGORIAN
METHOD:PUBLISH
X-WR-CALNAME:Bayou Beaux
X-ORIGINAL-URL:https://bayoubeaux.com
X-WR-CALDESC:Events for Bayou Beaux
REFRESH-INTERVAL;VALUE=DURATION:PT1H
X-Robots-Tag:noindex
X-PUBLISHED-TTL:PT1H
BEGIN:VTIMEZONE
TZID:UTC
BEGIN:STANDARD
TZOFFSETFROM:+0000
TZOFFSETTO:+0000
TZNAME:UTC
DTSTART:20250101T000000
END:STANDARD
END:VTIMEZONE
BEGIN:VEVENT
DTSTART;TZID=UTC:20260503T110000
DTEND;TZID=UTC:20260503T150000
DTSTAMP:20260421T155231
CREATED:20260125T013618Z
LAST-MODIFIED:20260125T013618Z
UID:5277-1777806000-1777820400@bayoubeaux.com
SUMMARY:New Caney Community Market
DESCRIPTION:Please come check out our Creole Seasonings\, BBQ Sauces\, Rubs\, and Creole Tings!. Come and enjoy the Louisiana Creole Experience!
URL:https://bayoubeaux.com/event/new-caney-community-market-37/2026-05-03/
LOCATION:New Caney Community Market\, 21568 1/2 Market Pl Dr\,\, New Caney\, 77357
CATEGORIES:Artisan,Farmers Market,Markets,Pop Up Shop
ATTACH;FMTTYPE=image/jpeg:https://bayoubeaux.com/wp-content/uploads/2022/06/New-Caney-Community-Market.jpg
GEO:30.1348351;-95.2290399
X-APPLE-STRUCTURED-LOCATION;VALUE=URI;X-ADDRESS=New Caney Community Market 21568 1/2 Market Pl Dr New Caney 77357;X-APPLE-RADIUS=500;X-TITLE=21568 1/2 Market Pl Dr\,:geo:-95.2290399,30.1348351
END:VEVENT
BEGIN:VEVENT
DTSTART;TZID=UTC:20260509T100000
DTEND;TZID=UTC:20260509T150000
DTSTAMP:20260421T155231
CREATED:20260125T064436Z
LAST-MODIFIED:20260409T041348Z
UID:5196-1778320800-1778338800@bayoubeaux.com
SUMMARY:Lake Houston Farmers Market - BEL FURNITURE LOCATION
DESCRIPTION:Please come check out our Creole Seasonings\, BBQ Sauces\, Rubs\, and Creole Tings!. Come and enjoy the Louisiana Creole Experience! We will have frozen gumbo!
URL:https://bayoubeaux.com/event/lake-houston-farmers-market-bel-furniture-location-6/
LOCATION:Bell Furniture\, 20450 Eastex Fwy U.S. 59\, Humble\, TX\, 77338\, United States
CATEGORIES:Artisan,Brewery,Farmers Market,Markets,Pop Up Shop
ATTACH;FMTTYPE=image/jpeg:https://bayoubeaux.com/wp-content/uploads/2023/11/IMG_1362-1.jpeg
GEO:30.0994468;-95.2378913
X-APPLE-STRUCTURED-LOCATION;VALUE=URI;X-ADDRESS=Bell Furniture 20450 Eastex Fwy U.S. 59 Humble TX 77338 United States;X-APPLE-RADIUS=500;X-TITLE=20450 Eastex Fwy U.S. 59:geo:-95.2378913,30.0994468
END:VEVENT
BEGIN:VEVENT
DTSTART;TZID=UTC:20260607T110000
DTEND;TZID=UTC:20260607T150000
DTSTAMP:20260421T155231
CREATED:20260125T013618Z
LAST-MODIFIED:20260125T013618Z
UID:5278-1780830000-1780844400@bayoubeaux.com
SUMMARY:New Caney Community Market
DESCRIPTION:Please come check out our Creole Seasonings\, BBQ Sauces\, Rubs\, and Creole Tings!. Come and enjoy the Louisiana Creole Experience!
URL:https://bayoubeaux.com/event/new-caney-community-market-37/2026-06-07/
LOCATION:New Caney Community Market\, 21568 1/2 Market Pl Dr\,\, New Caney\, 77357
CATEGORIES:Artisan,Farmers Market,Markets,Pop Up Shop
ATTACH;FMTTYPE=image/jpeg:https://bayoubeaux.com/wp-content/uploads/2022/06/New-Caney-Community-Market.jpg
GEO:30.1348351;-95.2290399
X-APPLE-STRUCTURED-LOCATION;VALUE=URI;X-ADDRESS=New Caney Community Market 21568 1/2 Market Pl Dr New Caney 77357;X-APPLE-RADIUS=500;X-TITLE=21568 1/2 Market Pl Dr\,:geo:-95.2290399,30.1348351
END:VEVENT
BEGIN:VEVENT
DTSTART;VALUE=DATE:20260610
DTEND;VALUE=DATE:20260615
DTSTAMP:20260421T155231
CREATED:20260125T041245Z
LAST-MODIFIED:20260125T041245Z
UID:5302-1781049600-1781481599@bayoubeaux.com
SUMMARY:Grand Lodge Session
DESCRIPTION:We are coming to Baton Rouge\, LA to hang out with the SisStars and Brothers. We will be between the Crowne Plaza Hotel and Marriott Hotel. \n  \n 
URL:https://bayoubeaux.com/event/grand-lodge-session-2/
LOCATION:Baton Rouge\, Baton Rouge\, LA\, United States
CATEGORIES:Convention,Markets,Pop Up Shop
ATTACH;FMTTYPE=image/png:https://bayoubeaux.com/wp-content/uploads/2022/01/BBB_Logo_Registered.png
GEO:30.4514677;-91.1871466
END:VEVENT
BEGIN:VEVENT
DTSTART;TZID=UTC:20260620T100000
DTEND;TZID=UTC:20260620T140000
DTSTAMP:20260421T155231
CREATED:20260125T064644Z
LAST-MODIFIED:20260125T064644Z
UID:5232-1781949600-1781964000@bayoubeaux.com
SUMMARY:Lake Houston Farmers Market - BEL FURNITURE LOCATION
DESCRIPTION:Please come check out our Creole Seasonings\, BBQ Sauces\, Rubs\, and Creole Tings!. Come and enjoy the Louisiana Creole Experience! We will have frozen gumbo!
URL:https://bayoubeaux.com/event/lake-houston-farmers-market-bel-furniture-location-7/
LOCATION:Bell Furniture\, 20450 Eastex Fwy U.S. 59\, Humble\, TX\, 77338\, United States
CATEGORIES:Artisan,Brewery,Farmers Market,Markets,Pop Up Shop
ATTACH;FMTTYPE=image/jpeg:https://bayoubeaux.com/wp-content/uploads/2023/11/IMG_1362-1.jpeg
GEO:30.0994468;-95.2378913
X-APPLE-STRUCTURED-LOCATION;VALUE=URI;X-ADDRESS=Bell Furniture 20450 Eastex Fwy U.S. 59 Humble TX 77338 United States;X-APPLE-RADIUS=500;X-TITLE=20450 Eastex Fwy U.S. 59:geo:-95.2378913,30.0994468
END:VEVENT
BEGIN:VEVENT
DTSTART;TZID=UTC:20260705T110000
DTEND;TZID=UTC:20260705T150000
DTSTAMP:20260421T155231
CREATED:20260125T013618Z
LAST-MODIFIED:20260125T013618Z
UID:5279-1783249200-1783263600@bayoubeaux.com
SUMMARY:New Caney Community Market
DESCRIPTION:Please come check out our Creole Seasonings\, BBQ Sauces\, Rubs\, and Creole Tings!. Come and enjoy the Louisiana Creole Experience!
URL:https://bayoubeaux.com/event/new-caney-community-market-37/2026-07-05/
LOCATION:New Caney Community Market\, 21568 1/2 Market Pl Dr\,\, New Caney\, 77357
CATEGORIES:Artisan,Farmers Market,Markets,Pop Up Shop
ATTACH;FMTTYPE=image/jpeg:https://bayoubeaux.com/wp-content/uploads/2022/06/New-Caney-Community-Market.jpg
GEO:30.1348351;-95.2290399
X-APPLE-STRUCTURED-LOCATION;VALUE=URI;X-ADDRESS=New Caney Community Market 21568 1/2 Market Pl Dr New Caney 77357;X-APPLE-RADIUS=500;X-TITLE=21568 1/2 Market Pl Dr\,:geo:-95.2290399,30.1348351
END:VEVENT
BEGIN:VEVENT
DTSTART;TZID=UTC:20260802T110000
DTEND;TZID=UTC:20260802T150000
DTSTAMP:20260421T155231
CREATED:20260125T013618Z
LAST-MODIFIED:20260125T013618Z
UID:5280-1785668400-1785682800@bayoubeaux.com
SUMMARY:New Caney Community Market
DESCRIPTION:Please come check out our Creole Seasonings\, BBQ Sauces\, Rubs\, and Creole Tings!. Come and enjoy the Louisiana Creole Experience!
URL:https://bayoubeaux.com/event/new-caney-community-market-37/2026-08-02/
LOCATION:New Caney Community Market\, 21568 1/2 Market Pl Dr\,\, New Caney\, 77357
CATEGORIES:Artisan,Farmers Market,Markets,Pop Up Shop
ATTACH;FMTTYPE=image/jpeg:https://bayoubeaux.com/wp-content/uploads/2022/06/New-Caney-Community-Market.jpg
GEO:30.1348351;-95.2290399
X-APPLE-STRUCTURED-LOCATION;VALUE=URI;X-ADDRESS=New Caney Community Market 21568 1/2 Market Pl Dr New Caney 77357;X-APPLE-RADIUS=500;X-TITLE=21568 1/2 Market Pl Dr\,:geo:-95.2290399,30.1348351
END:VEVENT
BEGIN:VEVENT
DTSTART;TZID=UTC:20260906T110000
DTEND;TZID=UTC:20260906T150000
DTSTAMP:20260421T155231
CREATED:20260125T013618Z
LAST-MODIFIED:20260125T013618Z
UID:5281-1788692400-1788706800@bayoubeaux.com
SUMMARY:New Caney Community Market
DESCRIPTION:Please come check out our Creole Seasonings\, BBQ Sauces\, Rubs\, and Creole Tings!. Come and enjoy the Louisiana Creole Experience!
URL:https://bayoubeaux.com/event/new-caney-community-market-37/2026-09-06/
LOCATION:New Caney Community Market\, 21568 1/2 Market Pl Dr\,\, New Caney\, 77357
CATEGORIES:Artisan,Farmers Market,Markets,Pop Up Shop
ATTACH;FMTTYPE=image/jpeg:https://bayoubeaux.com/wp-content/uploads/2022/06/New-Caney-Community-Market.jpg
GEO:30.1348351;-95.2290399
X-APPLE-STRUCTURED-LOCATION;VALUE=URI;X-ADDRESS=New Caney Community Market 21568 1/2 Market Pl Dr New Caney 77357;X-APPLE-RADIUS=500;X-TITLE=21568 1/2 Market Pl Dr\,:geo:-95.2290399,30.1348351
END:VEVENT
BEGIN:VEVENT
DTSTART;TZID=UTC:20261003T090000
DTEND;TZID=UTC:20261003T170000
DTSTAMP:20260421T155231
CREATED:20260125T062934Z
LAST-MODIFIED:20260125T062934Z
UID:5330-1791018000-1791046800@bayoubeaux.com
SUMMARY:Fair on the Square\, Huntsville\, TX
DESCRIPTION:For the first time\, WE are bringing our Creole Experience of Seasonings and Gumbeaux Roux to Huntsville\, TX during the Fair on the Square! \n  \n   \n  \n 
URL:https://bayoubeaux.com/event/fair-on-the-square-huntsville-tx-4/
LOCATION:Downtown Huntsville Texas\, 1314 A University Ave\, Huntsville\, TX\, 77340\, United States
CATEGORIES:Artisan,Farmers Market,Festival,Markets
ATTACH;FMTTYPE=image/png:https://bayoubeaux.com/wp-content/uploads/2023/09/Fair-on-the-Square.png
GEO:30.7211695;-95.5505952
X-APPLE-STRUCTURED-LOCATION;VALUE=URI;X-ADDRESS=Downtown Huntsville Texas 1314 A University Ave Huntsville TX 77340 United States;X-APPLE-RADIUS=500;X-TITLE=1314 A University Ave:geo:-95.5505952,30.7211695
END:VEVENT
BEGIN:VEVENT
DTSTART;TZID=UTC:20261004T110000
DTEND;TZID=UTC:20261004T150000
DTSTAMP:20260421T155231
CREATED:20260125T013618Z
LAST-MODIFIED:20260125T013618Z
UID:5282-1791111600-1791126000@bayoubeaux.com
SUMMARY:New Caney Community Market
DESCRIPTION:Please come check out our Creole Seasonings\, BBQ Sauces\, Rubs\, and Creole Tings!. Come and enjoy the Louisiana Creole Experience!
URL:https://bayoubeaux.com/event/new-caney-community-market-37/2026-10-04/
LOCATION:New Caney Community Market\, 21568 1/2 Market Pl Dr\,\, New Caney\, 77357
CATEGORIES:Artisan,Farmers Market,Markets,Pop Up Shop
ATTACH;FMTTYPE=image/jpeg:https://bayoubeaux.com/wp-content/uploads/2022/06/New-Caney-Community-Market.jpg
GEO:30.1348351;-95.2290399
X-APPLE-STRUCTURED-LOCATION;VALUE=URI;X-ADDRESS=New Caney Community Market 21568 1/2 Market Pl Dr New Caney 77357;X-APPLE-RADIUS=500;X-TITLE=21568 1/2 Market Pl Dr\,:geo:-95.2290399,30.1348351
END:VEVENT
BEGIN:VEVENT
DTSTART;VALUE=DATE:20261009
DTEND;VALUE=DATE:20261011
DTSTAMP:20260421T155231
CREATED:20260125T062421Z
LAST-MODIFIED:20260125T062442Z
UID:5328-1791504000-1791676799@bayoubeaux.com
SUMMARY:Zwolle Tamale Fiesta
DESCRIPTION:Please come check out our Creole Seasonings\, BBQ Sauces\, Rubs\, and Creole Tings!. Come and enjoy the Zwolle Tamale Fiesta! \n \n  \n 
URL:https://bayoubeaux.com/event/zwolle-tamale-fiesta-4/
LOCATION:Fiesta Grounds\, 1100 South Main Street\, Zwolle\, LA\, 71486\, United States
CATEGORIES:Artisan,Festival,Pop Up Shop
ATTACH;FMTTYPE=image/jpeg:https://bayoubeaux.com/wp-content/uploads/2022/09/tamale-festival.jpg
GEO:31.6304314;-93.639777
X-APPLE-STRUCTURED-LOCATION;VALUE=URI;X-ADDRESS=Fiesta Grounds 1100 South Main Street Zwolle LA 71486 United States;X-APPLE-RADIUS=500;X-TITLE=1100 South Main Street:geo:-93.639777,31.6304314
END:VEVENT
BEGIN:VEVENT
DTSTART;TZID=UTC:20261024T100000
DTEND;TZID=UTC:20261024T170000
DTSTAMP:20260421T155231
CREATED:20260125T043157Z
LAST-MODIFIED:20260125T043157Z
UID:5314-1792836000-1792861200@bayoubeaux.com
SUMMARY:Sassafras Festival
DESCRIPTION:We are coming to the Piney Woods of East Texas to deliver our Gourmet Creole Experience of Seasonings and Tings.
URL:https://bayoubeaux.com/event/sassafras-festival-2/
LOCATION:Sassafras Festival\, 100 W. Columbia Street\, San Augustine\, TX\, 75972\, United States
CATEGORIES:Artisan,Festival,Markets,Pop Up Shop
ATTACH;FMTTYPE=image/jpeg:https://bayoubeaux.com/wp-content/uploads/2023/11/IMG_1361-3.jpeg
GEO:31.5301471;-94.11121
X-APPLE-STRUCTURED-LOCATION;VALUE=URI;X-ADDRESS=Sassafras Festival 100 W. Columbia Street San Augustine TX 75972 United States;X-APPLE-RADIUS=500;X-TITLE=100 W. Columbia Street:geo:-94.11121,31.5301471
END:VEVENT
BEGIN:VEVENT
DTSTART;TZID=UTC:20261101T110000
DTEND;TZID=UTC:20261101T150000
DTSTAMP:20260421T155231
CREATED:20260125T013618Z
LAST-MODIFIED:20260125T013618Z
UID:5283-1793530800-1793545200@bayoubeaux.com
SUMMARY:New Caney Community Market
DESCRIPTION:Please come check out our Creole Seasonings\, BBQ Sauces\, Rubs\, and Creole Tings!. Come and enjoy the Louisiana Creole Experience!
URL:https://bayoubeaux.com/event/new-caney-community-market-37/2026-11-01/
LOCATION:New Caney Community Market\, 21568 1/2 Market Pl Dr\,\, New Caney\, 77357
CATEGORIES:Artisan,Farmers Market,Markets,Pop Up Shop
ATTACH;FMTTYPE=image/jpeg:https://bayoubeaux.com/wp-content/uploads/2022/06/New-Caney-Community-Market.jpg
GEO:30.1348351;-95.2290399
X-APPLE-STRUCTURED-LOCATION;VALUE=URI;X-ADDRESS=New Caney Community Market 21568 1/2 Market Pl Dr New Caney 77357;X-APPLE-RADIUS=500;X-TITLE=21568 1/2 Market Pl Dr\,:geo:-95.2290399,30.1348351
END:VEVENT
END:VCALENDAR